BEGIN:VCALENDAR
VERSION:2.0
PRODID:-//https://tv-apen.de//NONSGML kigkonsult.se iCalcreator 2.23.20//
METHOD:PUBLISH
X-WR-CALNAME:JCal Pro Kalender
X-WR-CALDESC:Ihr Online-Terminkalender
X-WR-TIMEZONE:Europe/Berlin
BEGIN:VTIMEZONE
TZID:Europe/Berlin
BEGIN:STANDARD
DTSTART:20131027T030000
TZOFFSETFROM:+0200
TZOFFSETTO:+0100
RDATE:20141026T030000
TZNAME:CET
END:STANDARD
BEGIN:DAYLIGHT
DTSTART:20130331T020000
TZOFFSETFROM:+0100
TZOFFSETTO:+0200
RDATE:20140330T020000,20150329T020000
TZNAME:CEST
END:DAYLIGHT
END:VTIMEZONE
BEGIN:VEVENT
UID:5220e092c9ffefec8228fa2d9f8b1340http://www.tv-apen.de/administrator
DTSTAMP:20260421T102217Z
CATEGORIES:Fußball
DESCRIPTION:<p>Das Spiel findet an der Hössen in Westerstede statt</p>
DTSTART;TZID=Europe/Berlin:20131005T000000
DTEND;TZID=Europe/Berlin:20131005T160000
SUMMARY:C-Jugend - VfL Oldenburg U13 (Testspiel - A)
URL:https://tv-apen.de/index.php/kalender/43-fussball/1306-c-jugend-vfl-old
 enburg-u13-testspiel-a
END:VEVENT
END:VCALENDAR
