BEGIN:VCALENDAR
VERSION:2.0
PRODID:-//https://tv-apen.de//NONSGML kigkonsult.se iCalcreator 2.23.20//
METHOD:PUBLISH
X-WR-CALNAME:JCal Pro Kalender
X-WR-CALDESC:Ihr Online-Terminkalender
X-WR-TIMEZONE:Europe/Berlin
BEGIN:VTIMEZONE
TZID:Europe/Berlin
BEGIN:STANDARD
DTSTART:20131027T030000
TZOFFSETFROM:+0200
TZOFFSETTO:+0100
RDATE:20141026T030000
TZNAME:CET
END:STANDARD
BEGIN:DAYLIGHT
DTSTART:20140330T020000
TZOFFSETFROM:+0100
TZOFFSETTO:+0200
RDATE:20150329T020000
TZNAME:CEST
END:DAYLIGHT
END:VTIMEZONE
BEGIN:VEVENT
UID:df1a8fe8139da3f0a96933cbdc567890http://www.tv-apen.de/administrator
DTSTAMP:20260421T101700Z
CATEGORIES:Fußball
DESCRIPTION:
DTSTART;TZID=Europe/Berlin:20140118T000000
DTEND;TZID=Europe/Berlin:20140118T130000
SUMMARY:E-Jugend - Hallenrunde 2. Spieltag (Edewecht)
URL:https://tv-apen.de/index.php/kalender/43-fussball/1323-e-jugend-hallenr
 unde-2-spieltag-edewecht
END:VEVENT
BEGIN:VEVENT
UID:b88c0e2c4f67ee2b8952e21150aa9402http://www.tv-apen.de/administrator
DTSTAMP:20260421T101700Z
CATEGORIES:Fußball
DESCRIPTION:
DTSTART;TZID=Europe/Berlin:20140118T000000
DTEND;TZID=Europe/Berlin:20140118T140000
SUMMARY:G-Jugend - Hallenturnier (SG Hülstede)
URL:https://tv-apen.de/index.php/kalender/43-fussball/1356-g-jugend-hallent
 urnier-sg-huelstede
END:VEVENT
BEGIN:VEVENT
UID:bf3d61b2b23ed3dc52fc5a9f33773fb2http://www.tv-apen.de/administrator
DTSTAMP:20260421T101700Z
CATEGORIES:Fußball
DESCRIPTION:<p><strong><span style=\'font-size: 12.0pt\; font-family: 'Comi
 c Sans MS'\; color: #1f497d\;\'></span></strong></p>
DTSTART;TZID=Europe/Berlin:20140125T000000
DTEND;TZID=Europe/Berlin:20140125T150000
SUMMARY:E-Jugend - Eltern vs. Kinder Turnier (Soccerland Rastede)
URL:https://tv-apen.de/index.php/kalender/43-fussball/1342-e-jugend-eltern-
 vs-kinder-turnier-soccerland-rastede
END:VEVENT
BEGIN:VEVENT
UID:94e0568ca72b1fd99710e41fefb4d646http://www.tv-apen.de/administrator
DTSTAMP:20260421T101700Z
CATEGORIES:Fußball
DESCRIPTION:<p>Brakenhoffhalle in Westerstede</p>
DTSTART;TZID=Europe/Berlin:20140126T000000
DTEND;TZID=Europe/Berlin:20140126T090000
SUMMARY:C-Jugend - Hallenturnier (SG Hüllstede)
URL:https://tv-apen.de/index.php/kalender/43-fussball/1332-c-jugend-hallent
 urnier-sg-huellstede
END:VEVENT
BEGIN:VEVENT
UID:1445c31ffea60f8556a3043eec5eb5a4http://www.tv-apen.de/administrator
DTSTAMP:20260421T101700Z
CATEGORIES:Fußball
DESCRIPTION:
DTSTART;TZID=Europe/Berlin:20140126T000000
DTEND;TZID=Europe/Berlin:20140126T140000
SUMMARY:F-Jugend - Hallenrunde 2. Spieltag (Edewecht)
URL:https://tv-apen.de/index.php/kalender/43-fussball/1325-f-jugend-hallenr
 unde-2-spieltag-edewecht
END:VEVENT
BEGIN:VEVENT
UID:b63c483ef624764039f69e83f8657461http://www.tv-apen.de/administrator
DTSTAMP:20260421T101700Z
CATEGORIES:Fußball
DESCRIPTION:
DTSTART;TZID=Europe/Berlin:20140131T000000
DTEND;TZID=Europe/Berlin:20140131T193000
SUMMARY:ABGESAGT 1. Herren - FTC Hollen (Testspiel - H)
URL:https://tv-apen.de/index.php/kalender/43-fussball/1437-abgesagt-1-herre
 n-ftc-hollen-testspiel-h
END:VEVENT
BEGIN:VEVENT
UID:c68a505e5901ef713be286890537e012http://www.tv-apen.de/administrator
DTSTAMP:20260421T101700Z
CATEGORIES:Fußball
DESCRIPTION:
DTSTART;TZID=Europe/Berlin:20140201T000000
DTEND;TZID=Europe/Berlin:20140201T130000
SUMMARY:D-Jugend - Hallenrunde 2. Spieltag (Bad Zwischenahn)
URL:https://tv-apen.de/index.php/kalender/43-fussball/1321-d-jugend-hallenr
 unde-2-spieltag-bad-zwischenahn
END:VEVENT
BEGIN:VEVENT
UID:eacd5363bcb952b3c968aa44d36a9433http://www.tv-apen.de/administrator
DTSTAMP:20260421T101700Z
CATEGORIES:Fußball
DESCRIPTION:<p>Brakenhoff</p>
DTSTART;TZID=Europe/Berlin:20140202T000000
DTEND;TZID=Europe/Berlin:20140202T130000
SUMMARY:C2-Jugend - Hallenzwischenrunde (Westerstede)
URL:https://tv-apen.de/index.php/kalender/43-fussball/1442-c2-jugend-hallen
 zwischenrunde-westerstede
END:VEVENT
BEGIN:VEVENT
UID:8012b89d1f179b79f42d6bb0bd6c938fhttp://www.tv-apen.de/administrator
DTSTAMP:20260421T101700Z
CATEGORIES:Fußball
DESCRIPTION:
DTSTART;TZID=Europe/Berlin:20140202T000000
DTEND;TZID=Europe/Berlin:20140202T160000
SUMMARY:C1-Jugend - Hallenzwischenrunde (Edewecht)
URL:https://tv-apen.de/index.php/kalender/43-fussball/1443-c1-jugend-hallen
 zwischenrunde-edewecht
END:VEVENT
BEGIN:VEVENT
UID:d5bec1681a2d3ba16c9fe4f57f142f46http://www.tv-apen.de/administrator
DTSTAMP:20260421T101700Z
CATEGORIES:Fußball
DESCRIPTION:
DTSTART;TZID=Europe/Berlin:20140203T000000
DTEND;TZID=Europe/Berlin:20140203T183000
SUMMARY:Jugendbetreuerversammlung
URL:https://tv-apen.de/index.php/kalender/43-fussball/1344-jugendbetreuerve
 rsammlung
END:VEVENT
BEGIN:VEVENT
UID:ce6c467d17e778e1bf86bf9d9d8bec8ehttp://www.tv-apen.de/administrator
DTSTAMP:20260421T101700Z
CATEGORIES:Fußball
DESCRIPTION:
DTSTART;TZID=Europe/Berlin:20140207T000000
DTEND;TZID=Europe/Berlin:20140207T193000
SUMMARY:1. Herren - STV Barßel (Testspiel - A)
URL:https://tv-apen.de/index.php/kalender/43-fussball/1438-1-herren-stv-bar
 ssel-testspiel-a
END:VEVENT
BEGIN:VEVENT
UID:4c2978e3a2b3c50dcfc17321b6cc4cbahttp://www.tv-apen.de/administrator
DTSTAMP:20260421T101700Z
CATEGORIES:Fußball
DESCRIPTION:<p>Sporthalle beim Gymnasium in Bad Zwischenahn</p>
DTSTART;TZID=Europe/Berlin:20140208T000000
DTEND;TZID=Europe/Berlin:20140208T093000
SUMMARY:G-Jugend - Hallenturnier (FC Querenstede)
URL:https://tv-apen.de/index.php/kalender/43-fussball/1358-g-jugend-hallent
 urnier-fc-querenstede
END:VEVENT
BEGIN:VEVENT
UID:3df4d8ea456fd9422a02b28ac31cca40http://www.tv-apen.de/administrator
DTSTAMP:20260421T101700Z
CATEGORIES:Fußball
DESCRIPTION:<p>Sporthalle beim Gymnasium Bad Zwischenahn</p>
DTSTART;TZID=Europe/Berlin:20140208T000000
DTEND;TZID=Europe/Berlin:20140208T140000
SUMMARY:F-Jugend - Hallenturnier (FC Querenstede)
URL:https://tv-apen.de/index.php/kalender/43-fussball/1361-f-jugend-hallent
 urnier-fc-querenstede
END:VEVENT
BEGIN:VEVENT
UID:131f322f73743f7b27ca16be26b61242http://www.tv-apen.de/administrator
DTSTAMP:20260421T101700Z
CATEGORIES:Fußball
DESCRIPTION:
DTSTART;TZID=Europe/Berlin:20140209T000000
DTEND;TZID=Europe/Berlin:20140209T100000
SUMMARY:D-Jugend - Zwischenrunde (Lehmden)
URL:https://tv-apen.de/index.php/kalender/43-fussball/1446-d-jugend-zwische
 nrunde-lehmden
END:VEVENT
BEGIN:VEVENT
UID:cd84fca20089af91aad3d33d977a4db9http://www.tv-apen.de/administrator
DTSTAMP:20260421T101700Z
CATEGORIES:Fußball
DESCRIPTION:
DTSTART;TZID=Europe/Berlin:20140209T000000
DTEND;TZID=Europe/Berlin:20140209T123000
SUMMARY:C-Jugend - Hallenendrunde (Wiefelstede)
URL:https://tv-apen.de/index.php/kalender/43-fussball/1445-c-jugend-hallene
 ndrunde-wiefelstede
END:VEVENT
BEGIN:VEVENT
UID:d666bbabaf039360106fe17adfa56502http://www.tv-apen.de/administrator
DTSTAMP:20260421T101700Z
CATEGORIES:Fußball
DESCRIPTION:
DTSTART;TZID=Europe/Berlin:20140214T000000
DTEND;TZID=Europe/Berlin:20140214T193000
SUMMARY:1. Herren - Fresena Ihren (Testspiel - H)
URL:https://tv-apen.de/index.php/kalender/43-fussball/1439-1-herren-fresena
 -ihren-testspiel-h
END:VEVENT
BEGIN:VEVENT
UID:5a77c20ce7c542ee979d46b8f5456343http://www.tv-apen.de/administrator
DTSTAMP:20260421T101700Z
CATEGORIES:Fußball
DESCRIPTION:
DTSTART;TZID=Europe/Berlin:20140215T000000
DTEND;TZID=Europe/Berlin:20140215T130000
SUMMARY:Vereinsinternes Hallenturnier
URL:https://tv-apen.de/index.php/kalender/43-fussball/1333-vereinsinternes-
 hallenturnier
END:VEVENT
BEGIN:VEVENT
UID:46d566c2779fb7382636aea8c1be01c3http://www.tv-apen.de/administrator
DTSTAMP:20260421T101700Z
CATEGORIES:Fußball
DESCRIPTION:
DTSTART;TZID=Europe/Berlin:20140215T000000
DTEND;TZID=Europe/Berlin:20140215T140000
SUMMARY:F-Jugend - Zwischenrunde (Metjendorf)
URL:https://tv-apen.de/index.php/kalender/43-fussball/1458-f-jugend-zwische
 nrunde-metjendorf
END:VEVENT
BEGIN:VEVENT
UID:8b5e5c599363745566968690f646622fhttp://www.tv-apen.de/administrator
DTSTAMP:20260421T101700Z
CATEGORIES:Fußball
DESCRIPTION:
DTSTART;TZID=Europe/Berlin:20140217T000000
DTEND;TZID=Europe/Berlin:20140217T193000
SUMMARY:1. Herren - Achternmeer (Testspiel - H)
URL:https://tv-apen.de/index.php/kalender/43-fussball/1440-1-herren-achtern
 meer-testspiel-h
END:VEVENT
BEGIN:VEVENT
UID:d625306d8a309acd228cf54f6ea4e3b0http://www.tv-apen.de/administrator
DTSTAMP:20260421T101700Z
CATEGORIES:Fußball
DESCRIPTION:
DTSTART;TZID=Europe/Berlin:20140221T000000
DTEND;TZID=Europe/Berlin:20140221T180000
SUMMARY:C-Jugend - SV Friedrichsfehn (Testspiel - H)
URL:https://tv-apen.de/index.php/kalender/43-fussball/1462-c-jugend-sv-frie
 drichsfehn-testspiel-h
END:VEVENT
END:VCALENDAR
