BEGIN:VCALENDAR
VERSION:2.0
PRODID:-//https://tv-apen.de//NONSGML kigkonsult.se iCalcreator 2.23.20//
METHOD:PUBLISH
X-WR-CALNAME:JCal Pro Kalender
X-WR-CALDESC:Ihr Online-Terminkalender
X-WR-TIMEZONE:Europe/Berlin
BEGIN:VTIMEZONE
TZID:Europe/Berlin
BEGIN:STANDARD
DTSTART:20131027T030000
TZOFFSETFROM:+0200
TZOFFSETTO:+0100
RDATE:20141026T030000,20151025T030000
TZNAME:CET
END:STANDARD
BEGIN:DAYLIGHT
DTSTART:20140330T020000
TZOFFSETFROM:+0100
TZOFFSETTO:+0200
RDATE:20150329T020000
TZNAME:CEST
END:DAYLIGHT
END:VTIMEZONE
BEGIN:VEVENT
UID:2879358cd612ea84d506da35426d2820http://www.tv-apen.de/administrator
DTSTAMP:20260421T143158Z
CATEGORIES:Fußball
DESCRIPTION:
DTSTART;TZID=Europe/Berlin:20140404T193000
SUMMARY:3. Herren - TuS Ocholt III (A)
URL:https://tv-apen.de/index.php/kalender/43-fussball/1504-3-herren-tus-och
 olt-iii-a
END:VEVENT
BEGIN:VEVENT
UID:23f9931dc0a7f142a12c89d9c0348f36http://www.tv-apen.de/administrator
DTSTAMP:20260421T143158Z
CATEGORIES:Fußball
DESCRIPTION:
DTSTART;TZID=Europe/Berlin:20140411T000000
DTEND;TZID=Europe/Berlin:20140411T203000
SUMMARY:1. Herren - VfL Edewecht (A)
URL:https://tv-apen.de/index.php/kalender/43-fussball/1310-1-herren-vfl-ede
 wecht-a
END:VEVENT
BEGIN:VEVENT
UID:d4aa498d0064d53b2ec47b77f3647437http://www.tv-apen.de/administrator
DTSTAMP:20260421T143158Z
CATEGORIES:Fußball
DESCRIPTION:
DTSTART;TZID=Europe/Berlin:20140411T193000
SUMMARY:3. Herren - SVE Wiefelstede IV (H)
URL:https://tv-apen.de/index.php/kalender/43-fussball/1505-3-herren-sve-wie
 felstede-iv-h
END:VEVENT
BEGIN:VEVENT
UID:724113226691a33ad62c5168c902fa98http://www.tv-apen.de/administrator
DTSTAMP:20260421T143158Z
CATEGORIES:Fußball
DESCRIPTION:
DTSTART;TZID=Europe/Berlin:20140414T000000
DTEND;TZID=Europe/Berlin:20140414T203000
SUMMARY:Jugendbetreuerversammlung
URL:https://tv-apen.de/index.php/kalender/43-fussball/1346-jugendbetreuerve
 rsammlung
END:VEVENT
BEGIN:VEVENT
UID:ac2488e323f7df5dc64a256f3e1cbb73http://www.tv-apen.de/administrator
DTSTAMP:20260421T143158Z
CATEGORIES:Fußball
DESCRIPTION:
DTSTART;TZID=Europe/Berlin:20140417T000000
DTEND;TZID=Europe/Berlin:20140417T203000
SUMMARY:1. Herren - TuS 'Vorw.' Augustfehn (H)
URL:https://tv-apen.de/index.php/kalender/43-fussball/1515-1-herren-tus-vor
 w-augustfehn-h
END:VEVENT
BEGIN:VEVENT
UID:e96bff57d7d512c95e6c92dc06c05101http://www.tv-apen.de/administrator
DTSTAMP:20260421T143158Z
CATEGORIES:Fußball
DESCRIPTION:
DTSTART;TZID=Europe/Berlin:20140424T000000
DTEND;TZID=Europe/Berlin:20140424T190000
SUMMARY:D-Jugend - FC Querenstede (H)
URL:https://tv-apen.de/index.php/kalender/43-fussball/1471-d-jugend-fc-quer
 enstede-h
END:VEVENT
BEGIN:VEVENT
UID:b0708368d8eeaf65698e60fbf3681f0ahttp://www.tv-apen.de/administrator
DTSTAMP:20260421T143158Z
CATEGORIES:Fußball
DESCRIPTION:
DTSTART;TZID=Europe/Berlin:20140424T193000
SUMMARY:3. Herren - SV Westerholtsfelde II (H)
URL:https://tv-apen.de/index.php/kalender/43-fussball/1506-3-herren-sv-west
 erholtsfelde-ii-h
END:VEVENT
BEGIN:VEVENT
UID:590b88e9f1bbfccb435ab6d665a4835ahttp://www.tv-apen.de/administrator
DTSTAMP:20260421T143158Z
CATEGORIES:Fußball
DESCRIPTION:
DTSTART;TZID=Europe/Berlin:20140425T000000
DTEND;TZID=Europe/Berlin:20140425T180000
SUMMARY:F2-Jugend - SG Husbäke/Südd/Edamm (H)
URL:https://tv-apen.de/index.php/kalender/43-fussball/1493-f2-jugend-sg-hus
 baeke-suedd-edamm-h
END:VEVENT
BEGIN:VEVENT
UID:9cb63f79bab78f024a6de25c0ef8c89chttp://www.tv-apen.de/administrator
DTSTAMP:20260421T143158Z
CATEGORIES:Fußball
DESCRIPTION:
DTSTART;TZID=Europe/Berlin:20140425T000000
DTEND;TZID=Europe/Berlin:20140425T183000
SUMMARY:C1-Jugend - SV Brake II (A)
URL:https://tv-apen.de/index.php/kalender/43-fussball/1451-c1-jugend-sv-bra
 ke-ii-a
END:VEVENT
BEGIN:VEVENT
UID:089e6f87b3b88f7ac59207459566e2a7http://www.tv-apen.de/administrator
DTSTAMP:20260421T143158Z
CATEGORIES:Fußball
DESCRIPTION:
DTSTART;TZID=Europe/Berlin:20140425T000000
DTEND;TZID=Europe/Berlin:20140425T203000
SUMMARY:1. Herren - TV Metjendorf (H)
URL:https://tv-apen.de/index.php/kalender/43-fussball/1311-1-herren-tv-metj
 endorf-h
END:VEVENT
BEGIN:VEVENT
UID:6b43718be867eb6365dfe51699698228http://www.tv-apen.de/administrator
DTSTAMP:20260421T143158Z
CATEGORIES:Fußball
DESCRIPTION:
DTSTART;TZID=Europe/Berlin:20140426T000000
DTEND;TZID=Europe/Berlin:20140426T113000
SUMMARY:F1-Jugend - TuS Ekern 3 (H)
URL:https://tv-apen.de/index.php/kalender/43-fussball/1485-f1-jugend-tus-ek
 ern-3-h
END:VEVENT
BEGIN:VEVENT
UID:c4120a682cfa47486e6671dd502bdba7http://www.tv-apen.de/administrator
DTSTAMP:20260421T143158Z
CATEGORIES:Fußball
DESCRIPTION:<p><span style=\'font-family: helvetica\; font-size: 13px\;\'>T
 V Apen vs. FC Rastede</span></p>\n<p><span style=\'font-family: helvetica\
 ; font-size: 13px\;\'>Anstoß 14:00 Uhr</span></p>
DTSTART;TZID=Europe/Berlin:20140426T000000
DTEND;TZID=Europe/Berlin:20140426T150000
SUMMARY:Freundschaftsturnier G-Jugend (H)
URL:https://tv-apen.de/index.php/kalender/43-fussball/1516-freundschaftstur
 nier-g-jugend-h
END:VEVENT
BEGIN:VEVENT
UID:4ef7705cee47ce021647dbf216b399c5http://www.tv-apen.de/administrator
DTSTAMP:20260421T143158Z
CATEGORIES:Fußball
DESCRIPTION:
DTSTART;TZID=Europe/Berlin:20140426T000000
DTEND;TZID=Europe/Berlin:20140426T170000
SUMMARY:C2-Jugend - TuS Lehmden (A)
URL:https://tv-apen.de/index.php/kalender/43-fussball/1466-c2-jugend-tus-le
 hmden-a
END:VEVENT
BEGIN:VEVENT
UID:a9a3e3ee9e13ab9443151d04e15535c2http://www.tv-apen.de/administrator
DTSTAMP:20260421T143158Z
CATEGORIES:Fußball
DESCRIPTION:
DTSTART;TZID=Europe/Berlin:20140502T000000
DTEND;TZID=Europe/Berlin:20140502T183000
SUMMARY:D-Jugend - SVE Wildenloh (A)
URL:https://tv-apen.de/index.php/kalender/43-fussball/1472-d-jugend-sve-wil
 denloh-a
END:VEVENT
BEGIN:VEVENT
UID:e4d227601639c3435f79913f1a204d08http://www.tv-apen.de/administrator
DTSTAMP:20260421T143158Z
CATEGORIES:Fußball
DESCRIPTION:
DTSTART;TZID=Europe/Berlin:20140502T000000
DTEND;TZID=Europe/Berlin:20140502T203000
SUMMARY:1. Herren - SG Elmendorf/Gristede (A)
URL:https://tv-apen.de/index.php/kalender/43-fussball/1312-1-herren-sg-elme
 ndorf-gristede-a
END:VEVENT
BEGIN:VEVENT
UID:8c95f5403064b65a0942e167c7a75ebdhttp://www.tv-apen.de/administrator
DTSTAMP:20260421T143158Z
CATEGORIES:Fußball
DESCRIPTION:
DTSTART;TZID=Europe/Berlin:20140502T193000
SUMMARY:3. Herren - SVE Wildenloh II (H)
URL:https://tv-apen.de/index.php/kalender/43-fussball/1507-3-herren-sve-wil
 denloh-ii-h
END:VEVENT
BEGIN:VEVENT
UID:f59609fcb4871bce4ca4d0cccd4f41e7http://www.tv-apen.de/administrator
DTSTAMP:20260421T143158Z
CATEGORIES:Fußball
DESCRIPTION:<p><span style=\'font-family: helvetica\; font-size: 13px\;\'>T
 V Apen vs. FSV Westerstede</span></p>\n<p><span style=\'font-family: helve
 tica\; font-size: 13px\;\'>Anstoß: 14:00 Uhr</span></p>
DTSTART;TZID=Europe/Berlin:20140503T000000
DTEND;TZID=Europe/Berlin:20140503T150000
SUMMARY:Freundschaftsturnier G-Jugend (H)
URL:https://tv-apen.de/index.php/kalender/43-fussball/1517-freundschaftstur
 nier-g-jugend-h
END:VEVENT
BEGIN:VEVENT
UID:af5396852c02da613b1a3979a8fb0aefhttp://www.tv-apen.de/administrator
DTSTAMP:20260421T143158Z
CATEGORIES:Fußball
DESCRIPTION:
DTSTART;TZID=Europe/Berlin:20140505T000000
DTEND;TZID=Europe/Berlin:20140505T180000
SUMMARY:F2-Jugend - TuS Ocholt (A)
URL:https://tv-apen.de/index.php/kalender/43-fussball/1494-f2-jugend-tus-oc
 holt-a
END:VEVENT
BEGIN:VEVENT
UID:452184c7de2db4eb8f37d3d3a80dbc76http://www.tv-apen.de/administrator
DTSTAMP:20260421T143158Z
CATEGORIES:Fußball
DESCRIPTION:
DTSTART;TZID=Europe/Berlin:20140505T000000
DTEND;TZID=Europe/Berlin:20140505T203000
SUMMARY:Jugendbetreuerversammlung
URL:https://tv-apen.de/index.php/kalender/43-fussball/1347-jugendbetreuerve
 rsammlung
END:VEVENT
BEGIN:VEVENT
UID:1bb1c3a26939dfacbca2b88f785c839fhttp://www.tv-apen.de/administrator
DTSTAMP:20260421T143158Z
CATEGORIES:Fußball
DESCRIPTION:
DTSTART;TZID=Europe/Berlin:20140507T000000
DTEND;TZID=Europe/Berlin:20140507T190000
SUMMARY:E-Jugend - SVE Wiefelstede 2 (H)
URL:https://tv-apen.de/index.php/kalender/43-fussball/1480-e-jugend-sve-wie
 felstede-2-h
END:VEVENT
END:VCALENDAR
