BEGIN:VCALENDAR
VERSION:2.0
PRODID:-//https://tv-apen.de//NONSGML kigkonsult.se iCalcreator 2.23.20//
METHOD:PUBLISH
X-WR-CALNAME:JCal Pro Kalender
X-WR-CALDESC:Ihr Online-Terminkalender
X-WR-TIMEZONE:Europe/Berlin
BEGIN:VTIMEZONE
TZID:Europe/Berlin
BEGIN:STANDARD
DTSTART:20131027T030000
TZOFFSETFROM:+0200
TZOFFSETTO:+0100
RDATE:20141026T030000,20151025T030000
TZNAME:CET
END:STANDARD
BEGIN:DAYLIGHT
DTSTART:20140330T020000
TZOFFSETFROM:+0100
TZOFFSETTO:+0200
RDATE:20150329T020000
TZNAME:CEST
END:DAYLIGHT
END:VTIMEZONE
BEGIN:VEVENT
UID:2c058ff0531b44d4dedd68de9667222ahttp://www.tv-apen.de/administrator
DTSTAMP:20260421T101715Z
CATEGORIES:Fußball
DESCRIPTION:
DTSTART;TZID=Europe/Berlin:20140508T000000
DTEND;TZID=Europe/Berlin:20140508T203000
SUMMARY:1. Herren - SVE Wiefelstede II (H)
URL:https://tv-apen.de/index.php/kalender/43-fussball/1729-1-herren-sve-wie
 felstede-ii-h
END:VEVENT
BEGIN:VEVENT
UID:94ef07a15b521deae423406a892e87d5http://www.tv-apen.de/administrator
DTSTAMP:20260421T101715Z
CATEGORIES:Fußball
DESCRIPTION:
DTSTART;TZID=Europe/Berlin:20140510T000000
DTEND;TZID=Europe/Berlin:20140510T160000
SUMMARY:C2-Jugend - SG Ekern/Scheps (H)
URL:https://tv-apen.de/index.php/kalender/43-fussball/1467-c2-jugend-sg-eke
 rn-scheps-h
END:VEVENT
BEGIN:VEVENT
UID:1e4ecca9ef0c3d6ee9c21ed3e0367968http://www.tv-apen.de/administrator
DTSTAMP:20260421T101715Z
CATEGORIES:Fußball
DESCRIPTION:
DTSTART;TZID=Europe/Berlin:20140513T000000
DTEND;TZID=Europe/Berlin:20140513T190000
SUMMARY:C2-Jugend - TV Metjendorf (A)
URL:https://tv-apen.de/index.php/kalender/43-fussball/1468-c2-jugend-tv-met
 jendorf-a
END:VEVENT
BEGIN:VEVENT
UID:224835c5445a0de94451abfbbedd3565http://www.tv-apen.de/administrator
DTSTAMP:20260421T101715Z
CATEGORIES:Fußball
DESCRIPTION:
DTSTART;TZID=Europe/Berlin:20140514T000000
DTEND;TZID=Europe/Berlin:20140514T193000
SUMMARY:C1-Jugend - FC Rastede (Pokalspiel - H)
URL:https://tv-apen.de/index.php/kalender/43-fussball/1514-c1-jugend-fc-ras
 tede-pokalspiel-h
END:VEVENT
BEGIN:VEVENT
UID:a96955a8af4788d874b7ccfbe671045fhttp://www.tv-apen.de/administrator
DTSTAMP:20260421T101715Z
CATEGORIES:Fußball
DESCRIPTION:
DTSTART;TZID=Europe/Berlin:20140515T000000
DTEND;TZID=Europe/Berlin:20140515T190000
SUMMARY:D-Jugend - VfL Edewecht II (H)
URL:https://tv-apen.de/index.php/kalender/43-fussball/1474-d-jugend-vfl-ede
 wecht-ii-h
END:VEVENT
BEGIN:VEVENT
UID:2b56bcc84ca30b1ba88d8babdc1eee2fhttp://www.tv-apen.de/administrator
DTSTAMP:20260421T101715Z
CATEGORIES:Fußball
DESCRIPTION:
DTSTART;TZID=Europe/Berlin:20140516T000000
DTEND;TZID=Europe/Berlin:20140516T180000
SUMMARY:F2-Jugend - SG Jeddeloh/Kl. Scharrel (A)
URL:https://tv-apen.de/index.php/kalender/43-fussball/1496-f2-jugend-sg-jed
 deloh-kl-scharrel-a
END:VEVENT
BEGIN:VEVENT
UID:426ba71648f2b9360f9b5c672d2b8acbhttp://www.tv-apen.de/administrator
DTSTAMP:20260421T101715Z
CATEGORIES:Fußball
DESCRIPTION:
DTSTART;TZID=Europe/Berlin:20140516T000000
DTEND;TZID=Europe/Berlin:20140516T190000
SUMMARY:E-Jugend - SG Jeddeloh/Kl. Scharrel 3 (H)
URL:https://tv-apen.de/index.php/kalender/43-fussball/1481-e-jugend-sg-jedd
 eloh-kl-scharrel-3-h
END:VEVENT
BEGIN:VEVENT
UID:93ebe893a118b5fb56db097d5b93f612http://www.tv-apen.de/administrator
DTSTAMP:20260421T101715Z
CATEGORIES:Fußball
DESCRIPTION:
DTSTART;TZID=Europe/Berlin:20140516T000000
DTEND;TZID=Europe/Berlin:20140516T203000
SUMMARY:1. Herren - FC Rastede II (H)
URL:https://tv-apen.de/index.php/kalender/43-fussball/1313-1-herren-fc-rast
 ede-ii-h
END:VEVENT
BEGIN:VEVENT
UID:5706cb8219c4a6b01e2f7fbc7c70d066http://www.tv-apen.de/administrator
DTSTAMP:20260421T101715Z
CATEGORIES:Fußball
DESCRIPTION:
DTSTART;TZID=Europe/Berlin:20140517T000000
DTEND;TZID=Europe/Berlin:20140517T140000
SUMMARY:C1-Jugend - TSV Ganderkesee (A)
URL:https://tv-apen.de/index.php/kalender/43-fussball/1453-c1-jugend-tsv-ga
 nderkesee-a
END:VEVENT
BEGIN:VEVENT
UID:03da925ca10c5d6823d577cc4e90c8c4http://www.tv-apen.de/administrator
DTSTAMP:20260421T101715Z
CATEGORIES:Fußball
DESCRIPTION:
DTSTART;TZID=Europe/Berlin:20140520T000000
DTEND;TZID=Europe/Berlin:20140520T180000
SUMMARY:F1-Jugend - TuS Westerloy 2 (A)
URL:https://tv-apen.de/index.php/kalender/43-fussball/1488-f1-jugend-tus-we
 sterloy-2-a
END:VEVENT
BEGIN:VEVENT
UID:ca6ae4a4e8ed22214b3c0235ead148a7http://www.tv-apen.de/administrator
DTSTAMP:20260421T101715Z
CATEGORIES:Fußball
DESCRIPTION:
DTSTART;TZID=Europe/Berlin:20140520T000000
DTEND;TZID=Europe/Berlin:20140520T190000
SUMMARY:F2-Jugend - SG Halsbek 2 (H)
URL:https://tv-apen.de/index.php/kalender/43-fussball/1497-f2-jugend-sg-hal
 sbek-2-h
END:VEVENT
BEGIN:VEVENT
UID:137f12611d1ee367bf5ad6be32187f76http://www.tv-apen.de/administrator
DTSTAMP:20260421T101715Z
CATEGORIES:Fußball
DESCRIPTION:
DTSTART;TZID=Europe/Berlin:20140520T000000
DTEND;TZID=Europe/Berlin:20140520T191500
SUMMARY:D-Jugend - TuS 'Vorw.' Augustfehn (H)
URL:https://tv-apen.de/index.php/kalender/43-fussball/1476-d-jugend-tus-vor
 w-augustfehn-h
END:VEVENT
BEGIN:VEVENT
UID:857cc8771d1044d9a5a5a825a9b25b5fhttp://www.tv-apen.de/administrator
DTSTAMP:20260421T101715Z
CATEGORIES:Fußball
DESCRIPTION:<p>Nachholtermin des für den 11.05. geplanten Derbys\, Anstoß i
 n Augustfehn um 19:30 Uhr</p>
DTSTART;TZID=Europe/Berlin:20140520T000000
DTEND;TZID=Europe/Berlin:20140520T213000
SUMMARY:1. Herren - TuS Vorw. Augustfehn (A)
URL:https://tv-apen.de/index.php/kalender/43-fussball/1519-1-herren-tus-vor
 w-augustfehn-a
END:VEVENT
BEGIN:VEVENT
UID:0098acba839ca654e798dc3160d3037fhttp://www.tv-apen.de/administrator
DTSTAMP:20260421T101715Z
CATEGORIES:Fußball
DESCRIPTION:
DTSTART;TZID=Europe/Berlin:20140520T200000
SUMMARY:3. Herren - TTG Ihausen (A)
URL:https://tv-apen.de/index.php/kalender/43-fussball/1508-3-herren-ttg-iha
 usen-a
END:VEVENT
BEGIN:VEVENT
UID:7fae2772762ca1f27221e8f664c00d40http://www.tv-apen.de/administrator
DTSTAMP:20260421T101715Z
CATEGORIES:Fußball
DESCRIPTION:
DTSTART;TZID=Europe/Berlin:20140521T000000
DTEND;TZID=Europe/Berlin:20140521T200000
SUMMARY:C1-Jugend - 1. FC Ohmstede (H)
URL:https://tv-apen.de/index.php/kalender/43-fussball/1452-c1-jugend-1-fc-o
 hmstede-h
END:VEVENT
BEGIN:VEVENT
UID:f24221a8ebbebbac442898429ef88be9http://www.tv-apen.de/administrator
DTSTAMP:20260421T101715Z
CATEGORIES:Fußball
DESCRIPTION:
DTSTART;TZID=Europe/Berlin:20140522T000000
DTEND;TZID=Europe/Berlin:20140522T180000
SUMMARY:F1-Jugend - SG Hüllstede (A)
URL:https://tv-apen.de/index.php/kalender/43-fussball/1489-f1-jugend-sg-hue
 llstede-a
END:VEVENT
BEGIN:VEVENT
UID:453bd33ede98ac2eb32b1ea2eb235a4ahttp://www.tv-apen.de/administrator
DTSTAMP:20260421T101715Z
CATEGORIES:Fußball
DESCRIPTION:
DTSTART;TZID=Europe/Berlin:20140523T000000
DTEND;TZID=Europe/Berlin:20140523T180000
SUMMARY:F2-Jugend - TuS 'Vorw.' Augustfehn 2 (H)
URL:https://tv-apen.de/index.php/kalender/43-fussball/1498-f2-jugend-tus-vo
 rw-augustfehn-2-h
END:VEVENT
BEGIN:VEVENT
UID:61e36d126c762bf78c902af96a5ebcd0http://www.tv-apen.de/administrator
DTSTAMP:20260421T101715Z
CATEGORIES:Fußball
DESCRIPTION:
DTSTART;TZID=Europe/Berlin:20140523T000000
DTEND;TZID=Europe/Berlin:20140523T190000
SUMMARY:E-Jugend - TuS Petersfehn 2 (A)
URL:https://tv-apen.de/index.php/kalender/43-fussball/1482-e-jugend-tus-pet
 ersfehn-2-a
END:VEVENT
BEGIN:VEVENT
UID:c8e94dd897bdbb06ec77c0b6cbbf4403http://www.tv-apen.de/administrator
DTSTAMP:20260421T101715Z
CATEGORIES:Fußball
DESCRIPTION:
DTSTART;TZID=Europe/Berlin:20140524T000000
DTEND;TZID=Europe/Berlin:20140524T140000
SUMMARY:C1-Jugend - AT Rodenkirchen (H)
URL:https://tv-apen.de/index.php/kalender/43-fussball/1454-c1-jugend-at-rod
 enkirchen-h
END:VEVENT
BEGIN:VEVENT
UID:3e244eca0f411e748cc64bbc35091a41http://www.tv-apen.de/administrator
DTSTAMP:20260421T101715Z
CATEGORIES:Fußball
DESCRIPTION:
DTSTART;TZID=Europe/Berlin:20140524T000000
DTEND;TZID=Europe/Berlin:20140524T150000
SUMMARY:D-Jugend - SG Elmendorf/Gristede/Zw'ahn (A)
URL:https://tv-apen.de/index.php/kalender/43-fussball/1475-d-jugend-sg-elme
 ndorf-gristede-zw-ahn-a
END:VEVENT
END:VCALENDAR
