BEGIN:VCALENDAR
VERSION:2.0
PRODID:-//https://tv-apen.de//NONSGML kigkonsult.se iCalcreator 2.23.20//
METHOD:PUBLISH
X-WR-CALNAME:JCal Pro Kalender
X-WR-CALDESC:Ihr Online-Terminkalender
X-WR-TIMEZONE:Europe/Berlin
BEGIN:VTIMEZONE
TZID:Europe/Berlin
BEGIN:STANDARD
DTSTART:20131027T030000
TZOFFSETFROM:+0200
TZOFFSETTO:+0100
RDATE:20141026T030000
TZNAME:CET
END:STANDARD
BEGIN:DAYLIGHT
DTSTART:20130331T020000
TZOFFSETFROM:+0100
TZOFFSETTO:+0200
RDATE:20140330T020000,20150329T020000
TZNAME:CEST
END:DAYLIGHT
END:VTIMEZONE
BEGIN:VEVENT
UID:177565b9bb946bb9aef2d36a0f68a2e5http://www.tv-apen.de/administrator
DTSTAMP:20260421T084722Z
CATEGORIES:Fußball
DESCRIPTION:
DTSTART;TZID=Europe/Berlin:20131019T000000
DTEND;TZID=Europe/Berlin:20131019T140000
SUMMARY:D-Jugend - SVE Wildenloh (Pokalspiel -A)
URL:https://tv-apen.de/index.php/kalender/43-fussball/1307-d-jugend-sve-wil
 denloh-pokalspiel-a
END:VEVENT
BEGIN:VEVENT
UID:5ae1789b76b8eefbb25d9c02801b3160http://www.tv-apen.de/administrator
DTSTAMP:20260421T084722Z
CATEGORIES:Fußball
DESCRIPTION:
DTSTART;TZID=Europe/Berlin:20131019T000000
DTEND;TZID=Europe/Berlin:20131019T160000
SUMMARY:C-Jugend - VfL Edewecht (Pokalspiel -H)
URL:https://tv-apen.de/index.php/kalender/43-fussball/1214-c-jugend-vfl-ede
 wecht-pokalspiel-h
END:VEVENT
BEGIN:VEVENT
UID:378703c7de17739d22ca4e78d263446ehttp://www.tv-apen.de/administrator
DTSTAMP:20260421T084722Z
CATEGORIES:Fußball
DESCRIPTION:
DTSTART;TZID=Europe/Berlin:20131020T110000
SUMMARY:3.Herren - FSV Westerstede IV (A)
URL:https://tv-apen.de/index.php/kalender/43-fussball/1208-3-herren-fsv-wes
 terstede-iv-a
END:VEVENT
BEGIN:VEVENT
UID:33a20cb43a865552eff14ab6c8c2201dhttp://www.tv-apen.de/administrator
DTSTAMP:20260421T084722Z
CATEGORIES:Fußball
DESCRIPTION:
DTSTART;TZID=Europe/Berlin:20131021T000000
DTEND;TZID=Europe/Berlin:20131021T180000
SUMMARY:F-Jugend - SVE Wiefelstede II (A)
URL:https://tv-apen.de/index.php/kalender/43-fussball/1170-f-jugend-sve-wie
 felstede-ii-a
END:VEVENT
BEGIN:VEVENT
UID:cae3471a68a14c3b408b3910fc1acb5bhttp://www.tv-apen.de/administrator
DTSTAMP:20260421T084722Z
CATEGORIES:Fußball
DESCRIPTION:
DTSTART;TZID=Europe/Berlin:20131022T000000
DTEND;TZID=Europe/Berlin:20131022T193000
SUMMARY:C2-Jugend - TuS Ofen (Pokalspiel - H)
URL:https://tv-apen.de/index.php/kalender/43-fussball/1227-c2-jugend-tus-of
 en-pokalspiel-h
END:VEVENT
BEGIN:VEVENT
UID:e507c5a1f1372c83fc782aabb6624304http://www.tv-apen.de/administrator
DTSTAMP:20260421T084722Z
CATEGORIES:Fußball
DESCRIPTION:
DTSTART;TZID=Europe/Berlin:20131023T000000
DTEND;TZID=Europe/Berlin:20131023T193000
SUMMARY:C-Jugend - VfL Edewecht (H)
URL:https://tv-apen.de/index.php/kalender/43-fussball/1154-c-jugend-vfl-ede
 wecht-h
END:VEVENT
BEGIN:VEVENT
UID:3e55b1e78efb3162f13cabf1fec159b1http://www.tv-apen.de/administrator
DTSTAMP:20260421T084722Z
CATEGORIES:Fußball
DESCRIPTION:
DTSTART;TZID=Europe/Berlin:20131025T000000
DTEND;TZID=Europe/Berlin:20131025T183000
SUMMARY:E-Jugend - FSV Westerstede (Pokalspiel - A)
URL:https://tv-apen.de/index.php/kalender/43-fussball/1308-e-jugend-fsv-wes
 terstede-pokalspiel-a
END:VEVENT
BEGIN:VEVENT
UID:e52451a47c707f9ec777acead6f89531http://www.tv-apen.de/administrator
DTSTAMP:20260421T084722Z
CATEGORIES:Fußball
DESCRIPTION:<p>Die Heimspiele unserer C2-Jugend (SG Augustfehn/Apen) finden
  beim Stahlwerk in Augustfehn statt</p>
DTSTART;TZID=Europe/Berlin:20131026T000000
DTEND;TZID=Europe/Berlin:20131026T160000
SUMMARY:C2-Jugend - SV Friedrichsfehn II (H)
URL:https://tv-apen.de/index.php/kalender/43-fussball/1223-c2-jugend-sv-fri
 edrichsfehn-ii-h
END:VEVENT
BEGIN:VEVENT
UID:27e7a3274c8360de3649c4ac828f77eahttp://www.tv-apen.de/administrator
DTSTAMP:20260421T084722Z
CATEGORIES:Fußball
DESCRIPTION:<p>Auswärtstest unserer Ersten in Achternmeer (Kreisliga 6)</p>
DTSTART;TZID=Europe/Berlin:20131028T000000
DTEND;TZID=Europe/Berlin:20131028T203000
SUMMARY:1. Herren - Achternmeer (Testspiel - A)
URL:https://tv-apen.de/index.php/kalender/43-fussball/1328-1-herren-achtern
 meer-testspiel-a
END:VEVENT
BEGIN:VEVENT
UID:12d7255e96e0098e27a1bfda3b78148fhttp://www.tv-apen.de/administrator
DTSTAMP:20260421T084722Z
CATEGORIES:Fußball
DESCRIPTION:
DTSTART;TZID=Europe/Berlin:20131101T183000
SUMMARY:3.Herren - Kickers Wahnbek III (H)
URL:https://tv-apen.de/index.php/kalender/43-fussball/1210-3-herren-kickers
 -wahnbek-iii-h
END:VEVENT
BEGIN:VEVENT
UID:df8b224dcff6eb15b09919a5423212a2http://www.tv-apen.de/administrator
DTSTAMP:20260421T084722Z
CATEGORIES:Fußball
DESCRIPTION:
DTSTART;TZID=Europe/Berlin:20131101T183000
SUMMARY:1.Herren - TuS Westerloy (A)
URL:https://tv-apen.de/index.php/kalender/43-fussball/1211-1-herren-tus-wes
 terloy-a
END:VEVENT
BEGIN:VEVENT
UID:743e2c949716954eb98ed8f7bdf4c078http://www.tv-apen.de/administrator
DTSTAMP:20260421T084722Z
CATEGORIES:Fußball
DESCRIPTION:
DTSTART;TZID=Europe/Berlin:20131102T000000
DTEND;TZID=Europe/Berlin:20131102T120000
SUMMARY:C2-Jugend - Kickers Wahnbek (A)
URL:https://tv-apen.de/index.php/kalender/43-fussball/1224-c2-jugend-kicker
 s-wahnbek-a
END:VEVENT
BEGIN:VEVENT
UID:52d948d76110ebfdfc56a0c666aad42chttp://www.tv-apen.de/administrator
DTSTAMP:20260421T084722Z
CATEGORIES:Fußball
DESCRIPTION:
DTSTART;TZID=Europe/Berlin:20131102T000000
DTEND;TZID=Europe/Berlin:20131102T140000
SUMMARY:C-Jugend - TuS Petersfehn (A)
URL:https://tv-apen.de/index.php/kalender/43-fussball/1155-c-jugend-tus-pet
 ersfehn-a
END:VEVENT
BEGIN:VEVENT
UID:e93826ed2cf29c0d768027fb8bc3d55fhttp://www.tv-apen.de/administrator
DTSTAMP:20260421T084722Z
CATEGORIES:Fußball
DESCRIPTION:
DTSTART;TZID=Europe/Berlin:20131104T000000
DTEND;TZID=Europe/Berlin:20131104T193000
SUMMARY:Jugendbetreuerversammlung
URL:https://tv-apen.de/index.php/kalender/43-fussball/1231-jugendbetreuerve
 rsammlung
END:VEVENT
BEGIN:VEVENT
UID:c0acea14fd0541fb837dfb5359d43747http://www.tv-apen.de/administrator
DTSTAMP:20260421T084722Z
CATEGORIES:Fußball
DESCRIPTION:<p>HEIMRECHTTAUSCH!</p>\n<p>Hollriedes Platz ist nicht bespielb
 ar\, daher wird das Heiumrecht getauscht und in Apen gespielt!</p>
DTSTART;TZID=Europe/Berlin:20131108T000000
DTEND;TZID=Europe/Berlin:20131108T203000
SUMMARY:1.Herren - Hollrieder SV (H)
URL:https://tv-apen.de/index.php/kalender/43-fussball/1212-1-herren-hollrie
 der-sv-h
END:VEVENT
BEGIN:VEVENT
UID:a45f3a3616dc81400b9375d617574a80http://www.tv-apen.de/administrator
DTSTAMP:20260421T084722Z
CATEGORIES:Fußball
DESCRIPTION:
DTSTART;VALUE=DATE:20131115
DTEND;VALUE=DATE:20131116
SUMMARY:Abgesagt: 1.Herren - TuS Vorw. A'fehn (H)
URL:https://tv-apen.de/index.php/kalender/43-fussball/1205-abgesagt-1-herre
 n-tus-vorw-a-fehn-h
END:VEVENT
BEGIN:VEVENT
UID:502eac8ed3e841e5360611b0f648f8c8http://www.tv-apen.de/administrator
DTSTAMP:20260421T084722Z
CATEGORIES:Fußball
DESCRIPTION:<p style=\'text-align: justify\;\'>Am kommenden Samstag (16.11.
 ) wird ab 9:30 Uhr in der Aper Sporthalle ein Turnier der F-Jugend stattfi
 nden. Zu dem Turnier haben sich Mannschaften von Gotano\, Augustfehn und W
 esterloy angesagt. Die Eltern der Spielerinnen und Spieler haben sich orde
 ntlich ins Zeug gelegt und werden an dem Tag eine tolle Cafeteria auf die 
 Beine stellen\, so dass hoffentlich zahlreiche Zuschauer sich dort versorg
 en können.</p>
DTSTART;TZID=Europe/Berlin:20131116T000000
DTEND;TZID=Europe/Berlin:20131116T123000
SUMMARY:F-Jugendturnier in Apen
URL:https://tv-apen.de/index.php/kalender/43-fussball/1334-f-jugendturnier-
 in-apen
END:VEVENT
BEGIN:VEVENT
UID:e1c975bf9518f87b794504aef3fce839http://www.tv-apen.de/administrator
DTSTAMP:20260421T084722Z
CATEGORIES:Fußball
DESCRIPTION:<p>Die Heimspiele unserer C2-Jugend (SG Augustfehn/Apen) finden
  beim Stahlwerk in Augustfehn statt</p>
DTSTART;TZID=Europe/Berlin:20131116T000000
DTEND;TZID=Europe/Berlin:20131116T150000
SUMMARY:C2-Jugend - SG Ekern/Scheps (H)
URL:https://tv-apen.de/index.php/kalender/43-fussball/1226-c2-jugend-sg-eke
 rn-scheps-h
END:VEVENT
BEGIN:VEVENT
UID:cbd0404e93b538641776f7efa4af9e9bhttp://www.tv-apen.de/administrator
DTSTAMP:20260421T084722Z
CATEGORIES:Fußball
DESCRIPTION:<p>Die Heimspiele unserer C2-Jugend (SG Augustfehn/Apen) finden
  beim Stahlwerk in Augustfehn statt</p>
DTSTART;TZID=Europe/Berlin:20131119T000000
DTEND;TZID=Europe/Berlin:20131119T180000
SUMMARY:C2-Jugend - FC Rastede II (H)
URL:https://tv-apen.de/index.php/kalender/43-fussball/1225-c2-jugend-fc-ras
 tede-ii-h
END:VEVENT
BEGIN:VEVENT
UID:8a4d34d9e3a7d912b093efdaac7ad52fhttp://www.tv-apen.de/administrator
DTSTAMP:20260421T084722Z
CATEGORIES:Fußball
DESCRIPTION:
DTSTART;TZID=Europe/Berlin:20131124T000000
DTEND;TZID=Europe/Berlin:20131124T093000
SUMMARY:E-Jugend - Hallenrunde 1. Spieltag (Ofen)
URL:https://tv-apen.de/index.php/kalender/43-fussball/1322-e-jugend-hallenr
 unde-1-spieltag-ofen
END:VEVENT
END:VCALENDAR
