BEGIN:VCALENDAR
VERSION:2.0
PRODID:-//https://tv-apen.de//NONSGML kigkonsult.se iCalcreator 2.23.20//
METHOD:PUBLISH
X-WR-CALNAME:JCal Pro Kalender
X-WR-CALDESC:Ihr Online-Terminkalender
X-WR-TIMEZONE:Europe/Berlin
BEGIN:VTIMEZONE
TZID:Europe/Berlin
BEGIN:STANDARD
DTSTART:20131027T030000
TZOFFSETFROM:+0200
TZOFFSETTO:+0100
RDATE:20141026T030000
TZNAME:CET
END:STANDARD
BEGIN:DAYLIGHT
DTSTART:20140330T020000
TZOFFSETFROM:+0100
TZOFFSETTO:+0200
RDATE:20150329T020000
TZNAME:CEST
END:DAYLIGHT
END:VTIMEZONE
BEGIN:VEVENT
UID:61ea4bc7ee427534743e76e5249cdc56http://www.tv-apen.de/administrator
DTSTAMP:20260421T084825Z
CATEGORIES:Fußball
DESCRIPTION:
DTSTART;TZID=Europe/Berlin:20131124T000000
DTEND;TZID=Europe/Berlin:20131124T140000
SUMMARY:C-Jugend - Hallenturnier (SV Bockhorn)
URL:https://tv-apen.de/index.php/kalender/43-fussball/1316-c-jugend-hallent
 urnier-sv-bockhorn
END:VEVENT
BEGIN:VEVENT
UID:b44e746e31882ea64f9ff2f68ce0d3b4http://www.tv-apen.de/administrator
DTSTAMP:20260421T084825Z
CATEGORIES:Fußball
DESCRIPTION:
DTSTART;TZID=Europe/Berlin:20131124T000000
DTEND;TZID=Europe/Berlin:20131124T140000
SUMMARY:F-Jugend - Hallenrunde 1. Spieltag (Ofen)
URL:https://tv-apen.de/index.php/kalender/43-fussball/1324-f-jugend-hallenr
 unde-1-spieltag-ofen
END:VEVENT
BEGIN:VEVENT
UID:54bf01a389558144afc790debe967d66http://www.tv-apen.de/administrator
DTSTAMP:20260421T084825Z
CATEGORIES:Fußball
DESCRIPTION:
DTSTART;TZID=Europe/Berlin:20131201T000000
DTEND;TZID=Europe/Berlin:20131201T100000
SUMMARY:C-Jugend - Hallenturnier (SV Astederfeld)
URL:https://tv-apen.de/index.php/kalender/43-fussball/1317-c-jugend-hallent
 urnier-sv-astederfeld
END:VEVENT
BEGIN:VEVENT
UID:2eb04818ad6d9db40ed922400068c616http://www.tv-apen.de/administrator
DTSTAMP:20260421T084825Z
CATEGORIES:Fußball
DESCRIPTION:
DTSTART;TZID=Europe/Berlin:20131201T000000
DTEND;TZID=Europe/Berlin:20131201T100000
SUMMARY:D-Jugend - Hallenrunde 1. Spieltag (Rastede)
URL:https://tv-apen.de/index.php/kalender/43-fussball/1320-d-jugend-hallenr
 unde-1-spieltag-rastede
END:VEVENT
BEGIN:VEVENT
UID:866d042bea0113bd8b25bb1f3c3280d3http://www.tv-apen.de/administrator
DTSTAMP:20260421T084825Z
CATEGORIES:Fußball
DESCRIPTION:
DTSTART;TZID=Europe/Berlin:20131202T000000
DTEND;TZID=Europe/Berlin:20131202T193000
SUMMARY:Jugendbetreuerversammlung
URL:https://tv-apen.de/index.php/kalender/43-fussball/1232-jugendbetreuerve
 rsammlung
END:VEVENT
BEGIN:VEVENT
UID:fa7de19a91a38387436402b9a9c999e3http://www.tv-apen.de/administrator
DTSTAMP:20260421T084825Z
CATEGORIES:Fußball
DESCRIPTION:
DTSTART;TZID=Europe/Berlin:20131215T000000
DTEND;TZID=Europe/Berlin:20131215T160000
SUMMARY:C-Jugend - Hallenrunde 1. Spieltag (Augustfehn)
URL:https://tv-apen.de/index.php/kalender/43-fussball/1326-c-jugend-hallenr
 unde-1-spieltag-augustfehn
END:VEVENT
BEGIN:VEVENT
UID:01e7998bbc28ae9e0d7f58408bfac022http://www.tv-apen.de/administrator
DTSTAMP:20260421T084825Z
CATEGORIES:Fußball
DESCRIPTION:
DTSTART;TZID=Europe/Berlin:20131221T000000
DTEND;TZID=Europe/Berlin:20131221T170000
SUMMARY:Weihnachtsfeier F-Jugend
URL:https://tv-apen.de/index.php/kalender/43-fussball/1337-weihnachtsfeier-
 f-jugend
END:VEVENT
BEGIN:VEVENT
UID:0b4cd14e373f0dfa8e689cc93e3e7426http://www.tv-apen.de/administrator
DTSTAMP:20260421T084825Z
CATEGORIES:Fußball
DESCRIPTION:
DTSTART;TZID=Europe/Berlin:20131227T000000
DTEND;TZID=Europe/Berlin:20131227T090000
SUMMARY:E-Jugend - Hallenturnier (FSV Westerstede)
URL:https://tv-apen.de/index.php/kalender/43-fussball/1339-e-jugend-hallent
 urnier-fsv-westerstede
END:VEVENT
BEGIN:VEVENT
UID:effa8e86817b3f8f7b92a6aac435bd4ehttp://www.tv-apen.de/administrator
DTSTAMP:20260421T084825Z
CATEGORIES:Fußball
DESCRIPTION:
DTSTART;TZID=Europe/Berlin:20131229T000000
DTEND;TZID=Europe/Berlin:20131229T084500
SUMMARY:E-Jugend - Hallenturnier (SV Friedrichsfehn)
URL:https://tv-apen.de/index.php/kalender/43-fussball/1340-e-jugend-hallent
 urnier-sv-friedrichsfehn
END:VEVENT
BEGIN:VEVENT
UID:519e23bcc49dca71338c3f5747a8d6b3http://www.tv-apen.de/administrator
DTSTAMP:20260421T084825Z
CATEGORIES:Fußball
DESCRIPTION:
DTSTART;TZID=Europe/Berlin:20131229T000000
DTEND;TZID=Europe/Berlin:20131229T180000
SUMMARY:C-Jugend - Hallenturnier (FSV Westerstede)
URL:https://tv-apen.de/index.php/kalender/43-fussball/1318-c-jugend-hallent
 urnier-fsv-westerstede
END:VEVENT
BEGIN:VEVENT
UID:c72c872d6538b4acf4312fc54714d1a5http://www.tv-apen.de/administrator
DTSTAMP:20260421T084825Z
CATEGORIES:Fußball
DESCRIPTION:
DTSTART;TZID=Europe/Berlin:20140103T000000
DTEND;TZID=Europe/Berlin:20140103T130000
SUMMARY:E-Jugend - Hallenturnier (SG Elmendorf/Gristede)
URL:https://tv-apen.de/index.php/kalender/43-fussball/1341-e-jugend-hallent
 urnier-sg-elmendorf-gristede
END:VEVENT
BEGIN:VEVENT
UID:9c69ba9ddca30780c4d27625bc0a49bahttp://www.tv-apen.de/administrator
DTSTAMP:20260421T084825Z
CATEGORIES:Fußball
DESCRIPTION:
DTSTART;TZID=Europe/Berlin:20140104T000000
DTEND;TZID=Europe/Berlin:20140104T110000
SUMMARY:Gemischtes D- und C-Jugend Turnier (H)
URL:https://tv-apen.de/index.php/kalender/43-fussball/1331-gemischtes-d-und
 -c-jugend-turnier-h
END:VEVENT
BEGIN:VEVENT
UID:a231ef8eeff5c134927f929ee4fad7e1http://www.tv-apen.de/administrator
DTSTAMP:20260421T084825Z
CATEGORIES:Fußball
DESCRIPTION:
DTSTART;TZID=Europe/Berlin:20140105T000000
DTEND;TZID=Europe/Berlin:20140105T090000
SUMMARY:G-Jugend - Hallenturnier (SV GoTaNo)
URL:https://tv-apen.de/index.php/kalender/43-fussball/1355-g-jugend-hallent
 urnier-sv-gotano
END:VEVENT
BEGIN:VEVENT
UID:ba15e18abc0870c703cbfcbbd002081dhttp://www.tv-apen.de/administrator
DTSTAMP:20260421T084825Z
CATEGORIES:Fußball
DESCRIPTION:
DTSTART;TZID=Europe/Berlin:20140105T000000
DTEND;TZID=Europe/Berlin:20140105T140000
SUMMARY:F-Jugend - Hallenturnier (SV GoTaNo)
URL:https://tv-apen.de/index.php/kalender/43-fussball/1359-f-jugend-hallent
 urnier-sv-gotano
END:VEVENT
BEGIN:VEVENT
UID:3474c155af20f9927851d1919d316ea1http://www.tv-apen.de/administrator
DTSTAMP:20260421T084825Z
CATEGORIES:Fußball
DESCRIPTION:
DTSTART;TZID=Europe/Berlin:20140106T000000
DTEND;TZID=Europe/Berlin:20140106T183000
SUMMARY:Jugendbetreuerversammlung
URL:https://tv-apen.de/index.php/kalender/43-fussball/1343-jugendbetreuerve
 rsammlung
END:VEVENT
BEGIN:VEVENT
UID:a9884b01eaf88f65262443928f3f6110http://www.tv-apen.de/administrator
DTSTAMP:20260421T084825Z
CATEGORIES:Fußball
DESCRIPTION:
DTSTART;TZID=Europe/Berlin:20140111T000000
DTEND;TZID=Europe/Berlin:20140111T130000
SUMMARY:C-Jugend - Hallenrunde 2. Spieltag (Friedrichsfehn)
URL:https://tv-apen.de/index.php/kalender/43-fussball/1327-c-jugend-hallenr
 unde-2-spieltag-friedrichsfehn
END:VEVENT
BEGIN:VEVENT
UID:b4b06f9c76af0acd368b02953e28bf22http://www.tv-apen.de/administrator
DTSTAMP:20260421T084825Z
CATEGORIES:Fußball
DESCRIPTION:
DTSTART;TZID=Europe/Berlin:20140112T000000
DTEND;TZID=Europe/Berlin:20140112T100000
SUMMARY:E-Jugend - EWE Wintercup (Jaderberg)
URL:https://tv-apen.de/index.php/kalender/43-fussball/1315-e-jugend-ewe-win
 tercup-jaderberg
END:VEVENT
BEGIN:VEVENT
UID:c3a2ef9af06af3c7597c5a08aa51e97ehttp://www.tv-apen.de/administrator
DTSTAMP:20260421T084825Z
CATEGORIES:Fußball
DESCRIPTION:
DTSTART;TZID=Europe/Berlin:20140118T000000
DTEND;TZID=Europe/Berlin:20140118T090000
SUMMARY:C-Jugend - Hallenturnier (SV GoTaNo)
URL:https://tv-apen.de/index.php/kalender/43-fussball/1319-c-jugend-hallent
 urnier-sv-gotano
END:VEVENT
BEGIN:VEVENT
UID:8e7988d9d446680854d069d9f23d47behttp://www.tv-apen.de/administrator
DTSTAMP:20260421T084825Z
CATEGORIES:Fußball
DESCRIPTION:
DTSTART;TZID=Europe/Berlin:20140118T000000
DTEND;TZID=Europe/Berlin:20140118T090000
SUMMARY:F-Jugend - Hallenturnier (STV Barßel)
URL:https://tv-apen.de/index.php/kalender/43-fussball/1360-f-jugend-hallent
 urnier-stv-barssel
END:VEVENT
BEGIN:VEVENT
UID:e466d482f47596e9a18a2acf4eebabc0http://www.tv-apen.de/administrator
DTSTAMP:20260421T084825Z
CATEGORIES:Fußball
DESCRIPTION:
DTSTART;TZID=Europe/Berlin:20140118T000000
DTEND;TZID=Europe/Berlin:20140118T120000
SUMMARY:G-Jugend - Hallenturnier (STV Barßel)
URL:https://tv-apen.de/index.php/kalender/43-fussball/1357-g-jugend-hallent
 urnier-stv-barssel
END:VEVENT
END:VCALENDAR
