BEGIN:VCALENDAR
VERSION:2.0
PRODID:-//https://tv-apen.de//NONSGML kigkonsult.se iCalcreator 2.23.20//
METHOD:PUBLISH
X-WR-CALNAME:JCal Pro Kalender
X-WR-CALDESC:Ihr Online-Terminkalender
X-WR-TIMEZONE:Europe/Berlin
BEGIN:VTIMEZONE
TZID:Europe/Berlin
BEGIN:STANDARD
DTSTART:20221030T030000
TZOFFSETFROM:+0200
TZOFFSETTO:+0100
RDATE:20231029T030000
TZNAME:CET
END:STANDARD
BEGIN:DAYLIGHT
DTSTART:20230326T020000
TZOFFSETFROM:+0100
TZOFFSETTO:+0200
RDATE:20240331T020000
TZNAME:CEST
END:DAYLIGHT
END:VTIMEZONE
BEGIN:VEVENT
UID:20230130T200000CET-0316pI2tF5@https://www.tv-apen.de/
DTSTAMP:20260421T101833Z
CATEGORIES:Tischtennis
DESCRIPTION:
DTSTART;TZID=Europe/Berlin:20230130T200000
SUMMARY:Herren 4 - VfL Bad Zwischenahn 1 (A)
URL:https://tv-apen.de/index.php/kalender/44-tischtennis/4577-herren-4-vfl-
 bad-zwischenahn-1-a
END:VEVENT
BEGIN:VEVENT
UID:20230131T200000CET-8489aUnKRG@https://www.tv-apen.de/
DTSTAMP:20260421T101833Z
CATEGORIES:Tischtennis
DESCRIPTION:
DTSTART;TZID=Europe/Berlin:20230131T000000
DTEND;TZID=Europe/Berlin:20230131T210000
SUMMARY:Herren 2 - SSV Jeddeloh 3 /A)
URL:https://tv-apen.de/index.php/kalender/44-tischtennis/4546-herren-2-ssv-
 jeddeloh-3-a
END:VEVENT
BEGIN:VEVENT
UID:20230131T200000CET-9140dvpDLj@https://www.tv-apen.de/
DTSTAMP:20260421T101833Z
CATEGORIES:Tischtennis
DESCRIPTION:
DTSTART;TZID=Europe/Berlin:20230131T000000
DTEND;TZID=Europe/Berlin:20230131T210000
SUMMARY:Herren 4 - TSG Husbäke 2 (A)
URL:https://tv-apen.de/index.php/kalender/44-tischtennis/4578-herren-4-tsg-
 husbaeke-2-a
END:VEVENT
BEGIN:VEVENT
UID:20230203T181500CET-6107u78OD8@https://www.tv-apen.de/
DTSTAMP:20260421T101833Z
CATEGORIES:Tischtennis
DESCRIPTION:
DTSTART;TZID=Europe/Berlin:20230203T000000
DTEND;TZID=Europe/Berlin:20230203T191500
SUMMARY:Jungen 19 - FC Rastede 1 (A)
URL:https://tv-apen.de/index.php/kalender/44-tischtennis/4564-jungen-19-fc-
 rastede-1-a
END:VEVENT
BEGIN:VEVENT
UID:20230203T200000CET-5263DVWCVg@https://www.tv-apen.de/
DTSTAMP:20260421T101833Z
CATEGORIES:Tischtennis
DESCRIPTION:
DTSTART;TZID=Europe/Berlin:20230203T000000
DTEND;TZID=Europe/Berlin:20230203T210000
SUMMARY:Herren 1 - TT WST/Ekern (SG) 3 -A -
URL:https://tv-apen.de/index.php/kalender/44-tischtennis/4538-herren-1-tt-w
 st-ekern-sg-3-a
END:VEVENT
BEGIN:VEVENT
UID:20230203T200000CET-0558rgGlTm@https://www.tv-apen.de/
DTSTAMP:20260421T101833Z
CATEGORIES:Tischtennis
DESCRIPTION:
DTSTART;TZID=Europe/Berlin:20230203T200000
SUMMARY:Herren 3 - SSV Gristede 3 (A)
URL:https://tv-apen.de/index.php/kalender/44-tischtennis/4570-herren-3-ssv-
 gristede-3-a
END:VEVENT
BEGIN:VEVENT
UID:20230207T200000CET-50263uz1iu@https://www.tv-apen.de/
DTSTAMP:20260421T101833Z
CATEGORIES:Tischtennis
DESCRIPTION:
DTSTART;TZID=Europe/Berlin:20230207T000000
DTEND;TZID=Europe/Berlin:20230207T210000
SUMMARY:Herren 4 - TuS Ofen 2 (H)
URL:https://tv-apen.de/index.php/kalender/44-tischtennis/4579-herren-4-tus-
 ofen-2-h
END:VEVENT
BEGIN:VEVENT
UID:20230210T200000CET-1850vUEzBa@https://www.tv-apen.de/
DTSTAMP:20260421T101833Z
CATEGORIES:Tischtennis
DESCRIPTION:
DTSTART;TZID=Europe/Berlin:20230210T000000
DTEND;TZID=Europe/Berlin:20230210T210000
SUMMARY:Herren 5 - VfL Edewecht 3  (A)
URL:https://tv-apen.de/index.php/kalender/44-tischtennis/4555-herren-5-vfl-
 edewecht-3-a
END:VEVENT
BEGIN:VEVENT
UID:20230210T200000CET-8059zOtc8i@https://www.tv-apen.de/
DTSTAMP:20260421T101833Z
CATEGORIES:Tischtennis
DESCRIPTION:
DTSTART;TZID=Europe/Berlin:20230210T200000
SUMMARY:Herren 4 - TV Metjendorf 2 (H)
URL:https://tv-apen.de/index.php/kalender/44-tischtennis/4580-herren-4-tv-m
 etjendorf-2-h
END:VEVENT
BEGIN:VEVENT
UID:20230214T200000CET-0376vlCmnX@https://www.tv-apen.de/
DTSTAMP:20260421T101833Z
CATEGORIES:Tischtennis
DESCRIPTION:
DTSTART;TZID=Europe/Berlin:20230214T200000
SUMMARY:Herren 5 - TT WST/Ekern SG 10 -(A) in WST
URL:https://tv-apen.de/index.php/kalender/44-tischtennis/4556-herren-5-tt-w
 st-ekern-sg-10-a-in-wst
END:VEVENT
BEGIN:VEVENT
UID:20230217T180000CET-9367cXEsOO@https://www.tv-apen.de/
DTSTAMP:20260421T101833Z
CATEGORIES:Tischtennis
DESCRIPTION:
DTSTART;TZID=Europe/Berlin:20230217T000000
DTEND;TZID=Europe/Berlin:20230217T190000
SUMMARY:Jungen 19 - TTV Brake 1  (H)
URL:https://tv-apen.de/index.php/kalender/44-tischtennis/4565-jungen-19-ttv
 -brake-1-h
END:VEVENT
BEGIN:VEVENT
UID:20230217T200000CET-6257tLkMr9@https://www.tv-apen.de/
DTSTAMP:20260421T101833Z
CATEGORIES:Tischtennis
DESCRIPTION:
DTSTART;TZID=Europe/Berlin:20230217T200000
SUMMARY:Herren 3 - SSV Jeddeloh 4 (H)
URL:https://tv-apen.de/index.php/kalender/44-tischtennis/4571-herren-3-ssv-
 jeddeloh-4-h
END:VEVENT
BEGIN:VEVENT
UID:20230221T200000CET-5884bdIuPK@https://www.tv-apen.de/
DTSTAMP:20260421T101833Z
CATEGORIES:Tischtennis
DESCRIPTION:
DTSTART;TZID=Europe/Berlin:20230221T000000
DTEND;TZID=Europe/Berlin:20230221T210000
SUMMARY:Herren 4 - TuS Ocholt 2 (A)
URL:https://tv-apen.de/index.php/kalender/44-tischtennis/4581-herren-4-tus-
 ocholt-2-a
END:VEVENT
BEGIN:VEVENT
UID:20230224T193000CET-9578gTLvl8@https://www.tv-apen.de/
DTSTAMP:20260421T101833Z
CATEGORIES:Tischtennis
DESCRIPTION:
DTSTART;TZID=Europe/Berlin:20230224T000000
DTEND;TZID=Europe/Berlin:20230224T203000
SUMMARY:Herren 5 -TuS Spohle  1 (H)
URL:https://tv-apen.de/index.php/kalender/44-tischtennis/4557-herren-5-tus-
 spohle-1-h
END:VEVENT
BEGIN:VEVENT
UID:20230224T200000CET-8043HuXSnx@https://www.tv-apen.de/
DTSTAMP:20260421T101833Z
CATEGORIES:Tischtennis
DESCRIPTION:
DTSTART;TZID=Europe/Berlin:20230224T200000
SUMMARY:Herren 2 - TuS Ofen 1 (A)
URL:https://tv-apen.de/index.php/kalender/44-tischtennis/4547-herren-2-tus-
 ofen-1-a
END:VEVENT
BEGIN:VEVENT
UID:20230228T201500CET-8081xrgcta@https://www.tv-apen.de/
DTSTAMP:20260421T101833Z
CATEGORIES:Tischtennis
DESCRIPTION:
DTSTART;TZID=Europe/Berlin:20230228T000000
DTEND;TZID=Europe/Berlin:20230228T211500
SUMMARY:Herren 2 - TT WST/Ekern SG 7  -(A) in Ekern
URL:https://tv-apen.de/index.php/kalender/44-tischtennis/4548-herren-2-tt-w
 st-ekern-sg-7-a-in-ekern
END:VEVENT
BEGIN:VEVENT
UID:20230303T200000CET-417459uJB2@https://www.tv-apen.de/
DTSTAMP:20260421T101833Z
CATEGORIES:Tischtennis
DESCRIPTION:
DTSTART;TZID=Europe/Berlin:20230303T000000
DTEND;TZID=Europe/Berlin:20230303T210000
SUMMARY:Herren 1 - TT WST/Ekern (SG) 2 - H -
URL:https://tv-apen.de/index.php/kalender/44-tischtennis/4539-herren-1-tt-w
 st-ekern-sg-2-h
END:VEVENT
BEGIN:VEVENT
UID:20230303T200000CET-9425HEx7s8@https://www.tv-apen.de/
DTSTAMP:20260421T101833Z
CATEGORIES:Tischtennis
DESCRIPTION:
DTSTART;TZID=Europe/Berlin:20230303T200000
SUMMARY:Herren 2 - TuS Rostrup 1 (H)
URL:https://tv-apen.de/index.php/kalender/44-tischtennis/4549-herren-2-tus-
 rostrup-1-h
END:VEVENT
BEGIN:VEVENT
UID:20230306T200000CET-7114zZmiUF@https://www.tv-apen.de/
DTSTAMP:20260421T101833Z
CATEGORIES:Tischtennis
DESCRIPTION:
DTSTART;TZID=Europe/Berlin:20230306T000000
DTEND;TZID=Europe/Berlin:20230306T210000
SUMMARY:Heeren 3 - SSV Wittenberge 1  (A)
URL:https://tv-apen.de/index.php/kalender/44-tischtennis/4572-heeren-3-ssv-
 wittenberge-1-a
END:VEVENT
BEGIN:VEVENT
UID:20230307T200000CET-4915EwXUIF@https://www.tv-apen.de/
DTSTAMP:20260421T101833Z
CATEGORIES:Tischtennis
DESCRIPTION:
DTSTART;TZID=Europe/Berlin:20230307T000000
DTEND;TZID=Europe/Berlin:20230307T210000
SUMMARY:Herren 2 - SSV Gristede  2 (A)
URL:https://tv-apen.de/index.php/kalender/44-tischtennis/4551-herren-2-ssv-
 gristede-2-a
END:VEVENT
END:VCALENDAR
