BEGIN:VCALENDAR
VERSION:2.0
PRODID:-//https://tv-apen.de//NONSGML kigkonsult.se iCalcreator 2.23.20//
METHOD:PUBLISH
X-WR-CALNAME:JCal Pro Kalender
X-WR-CALDESC:Ihr Online-Terminkalender
X-WR-TIMEZONE:Europe/Berlin
BEGIN:VTIMEZONE
TZID:Europe/Berlin
BEGIN:STANDARD
DTSTART:20221030T030000
TZOFFSETFROM:+0200
TZOFFSETTO:+0100
RDATE:20231029T030000,20241027T030000
TZNAME:CET
END:STANDARD
BEGIN:DAYLIGHT
DTSTART:20230326T020000
TZOFFSETFROM:+0100
TZOFFSETTO:+0200
RDATE:20240331T020000
TZNAME:CEST
END:DAYLIGHT
END:VTIMEZONE
BEGIN:VEVENT
UID:20230308T203000CET-9804o052Dm@https://www.tv-apen.de/
DTSTAMP:20260421T101833Z
CATEGORIES:Tischtennis
DESCRIPTION:
DTSTART;TZID=Europe/Berlin:20230308T000000
DTEND;TZID=Europe/Berlin:20230308T213000
SUMMARY:Herren 1 - SG Cleverns-Sandel 1  - A -
URL:https://tv-apen.de/index.php/kalender/44-tischtennis/4540-herren-1-sg-c
 leverns-sandel-1-a
END:VEVENT
BEGIN:VEVENT
UID:20230310T193000CET-1565rhBdww@https://www.tv-apen.de/
DTSTAMP:20260421T101833Z
CATEGORIES:Tischtennis
DESCRIPTION:
DTSTART;TZID=Europe/Berlin:20230310T000000
DTEND;TZID=Europe/Berlin:20230310T203000
SUMMARY:Herren 5 - TuS Ocholt 3 (H)
URL:https://tv-apen.de/index.php/kalender/44-tischtennis/4558-herren-5-tus-
 ocholt-3-h
END:VEVENT
BEGIN:VEVENT
UID:20230310T200000CET-0339aSj246@https://www.tv-apen.de/
DTSTAMP:20260421T101833Z
CATEGORIES:Tischtennis
DESCRIPTION:
DTSTART;TZID=Europe/Berlin:20230310T000000
DTEND;TZID=Europe/Berlin:20230310T210000
SUMMARY:Herren 2 - TT WST/Ekern SG 8 (A)  in WST
URL:https://tv-apen.de/index.php/kalender/44-tischtennis/4552-herren-2-tt-w
 st-ekern-sg-8-a-in-wst
END:VEVENT
BEGIN:VEVENT
UID:20230314T200000CET-4736zF0STU@https://www.tv-apen.de/
DTSTAMP:20260421T101833Z
CATEGORIES:Tischtennis
DESCRIPTION:
DTSTART;TZID=Europe/Berlin:20230314T000000
DTEND;TZID=Europe/Berlin:20230314T210000
SUMMARY:Herren 4 - SSV Jeddeloh 5 (A)
URL:https://tv-apen.de/index.php/kalender/44-tischtennis/4582-herren-4-ssv-
 jeddeloh-5-a
END:VEVENT
BEGIN:VEVENT
UID:20230317T200000CET-7410wXW6lt@https://www.tv-apen.de/
DTSTAMP:20260421T101833Z
CATEGORIES:Tischtennis
DESCRIPTION:
DTSTART;TZID=Europe/Berlin:20230317T000000
DTEND;TZID=Europe/Berlin:20230317T210000
SUMMARY:Herren  1 - SSV Jeddeloh 1 - A -
URL:https://tv-apen.de/index.php/kalender/44-tischtennis/4541-herren-1-ssv-
 jeddeloh-1-a
END:VEVENT
BEGIN:VEVENT
UID:20230318T150000CET-65702UAIaa@https://www.tv-apen.de/
DTSTAMP:20260421T101833Z
CATEGORIES:Tischtennis
DESCRIPTION:
DTSTART;TZID=Europe/Berlin:20230318T000000
DTEND;TZID=Europe/Berlin:20230318T160000
SUMMARY:Herren 1 - TuS Sande 2 - A -
URL:https://tv-apen.de/index.php/kalender/44-tischtennis/4542-herren-1-tus-
 sande-2-a
END:VEVENT
BEGIN:VEVENT
UID:20230319T150000CET-9044xpVCZ5@https://www.tv-apen.de/
DTSTAMP:20260421T101833Z
CATEGORIES:Tischtennis
DESCRIPTION:
DTSTART;TZID=Europe/Berlin:20230319T000000
DTEND;TZID=Europe/Berlin:20230319T160000
SUMMARY:Jungen 19 - TT WST/Ekern SG 2  /A) in WST
URL:https://tv-apen.de/index.php/kalender/44-tischtennis/4566-jungen-19-tt-
 wst-ekern-sg-2-a-in-wst
END:VEVENT
BEGIN:VEVENT
UID:20230324T180000CET-2566j3rh6c@https://www.tv-apen.de/
DTSTAMP:20260421T101833Z
CATEGORIES:Tischtennis
DESCRIPTION:
DTSTART;TZID=Europe/Berlin:20230324T000000
DTEND;TZID=Europe/Berlin:20230324T190000
SUMMARY:Jungen 19 - TuS Spohle 1 (H)
URL:https://tv-apen.de/index.php/kalender/44-tischtennis/4567-jungen-19-tus
 -spohle-1-h
END:VEVENT
BEGIN:VEVENT
UID:20230324T200000CET-8901VKxrlm@https://www.tv-apen.de/
DTSTAMP:20260421T101833Z
CATEGORIES:Tischtennis
DESCRIPTION:
DTSTART;TZID=Europe/Berlin:20230324T000000
DTEND;TZID=Europe/Berlin:20230324T210000
SUMMARY:Herren 1 - TSG Bokel 1  - H -
URL:https://tv-apen.de/index.php/kalender/44-tischtennis/4543-herren-1-tsg-
 bokel-1-h
END:VEVENT
BEGIN:VEVENT
UID:20230324T200000CET-3777iGMX2K@https://www.tv-apen.de/
DTSTAMP:20260421T101833Z
CATEGORIES:Tischtennis
DESCRIPTION:
DTSTART;TZID=Europe/Berlin:20230324T000000
DTEND;TZID=Europe/Berlin:20230324T210000
SUMMARY:Herren 2 - TT WST/Ekern SG 9 -(H)
URL:https://tv-apen.de/index.php/kalender/44-tischtennis/4553-herren-2-tt-w
 st-ekern-sg-9-h
END:VEVENT
BEGIN:VEVENT
UID:20230324T200000CET-8055XW8Nb7@https://www.tv-apen.de/
DTSTAMP:20260421T101833Z
CATEGORIES:Tischtennis
DESCRIPTION:
DTSTART;TZID=Europe/Berlin:20230324T000000
DTEND;TZID=Europe/Berlin:20230324T210000
SUMMARY:Herren 3 - TV Metjendorf 1 (H)
URL:https://tv-apen.de/index.php/kalender/44-tischtennis/4573-herren-3-tv-m
 etjendorf-1-h
END:VEVENT
BEGIN:VEVENT
UID:20230328T193000CEST-5874ukulJi@https://www.tv-apen.de/
DTSTAMP:20260421T101833Z
CATEGORIES:Tischtennis
DESCRIPTION:
DTSTART;TZID=Europe/Berlin:20230328T000000
DTEND;TZID=Europe/Berlin:20230328T203000
SUMMARY:Herren 5 - TuS Ocholt 4 (H)
URL:https://tv-apen.de/index.php/kalender/44-tischtennis/4559-herren-5-tus-
 ocholt-4-h
END:VEVENT
BEGIN:VEVENT
UID:20230331T200000CEST-5226WwjFoG@https://www.tv-apen.de/
DTSTAMP:20260421T101833Z
CATEGORIES:Tischtennis
DESCRIPTION:
DTSTART;TZID=Europe/Berlin:20230331T000000
DTEND;TZID=Europe/Berlin:20230331T210000
SUMMARY:Herren  1 - VfL Edewecht  1  - A -
URL:https://tv-apen.de/index.php/kalender/44-tischtennis/4544-herren-1-vfl-
 edewecht-1-a
END:VEVENT
BEGIN:VEVENT
UID:20230331T200000CEST-3899xVV6aB@https://www.tv-apen.de/
DTSTAMP:20260421T101833Z
CATEGORIES:Tischtennis
DESCRIPTION:
DTSTART;TZID=Europe/Berlin:20230331T000000
DTEND;TZID=Europe/Berlin:20230331T210000
SUMMARY:Herren 5 - SVE Wiefelstede 3 (H)
URL:https://tv-apen.de/index.php/kalender/44-tischtennis/4560-herren-5-sve-
 wiefelstede-3-h
END:VEVENT
BEGIN:VEVENT
UID:20230414T200000CEST-8621VpAbAl@https://www.tv-apen.de/
DTSTAMP:20260421T101833Z
CATEGORIES:Tischtennis
DESCRIPTION:
DTSTART;TZID=Europe/Berlin:20230414T000000
DTEND;TZID=Europe/Berlin:20230414T210000
SUMMARY:Herren 2 - TSG Bokel 3 (H)
URL:https://tv-apen.de/index.php/kalender/44-tischtennis/4554-herren-2-tsg-
 bokel-3-h
END:VEVENT
BEGIN:VEVENT
UID:20230414T200000CEST-45802TeLSb@https://www.tv-apen.de/
DTSTAMP:20260421T101833Z
CATEGORIES:Tischtennis
DESCRIPTION:
DTSTART;TZID=Europe/Berlin:20230414T000000
DTEND;TZID=Europe/Berlin:20230414T210000
SUMMARY:Herren 3 - FC Rastede 5 (H)
URL:https://tv-apen.de/index.php/kalender/44-tischtennis/4574-herren-3-fc-r
 astede-5-h
END:VEVENT
BEGIN:VEVENT
UID:20230421T200000CEST-8301CjFPxw@https://www.tv-apen.de/
DTSTAMP:20260421T101833Z
CATEGORIES:Tischtennis
DESCRIPTION:
DTSTART;TZID=Europe/Berlin:20230421T000000
DTEND;TZID=Europe/Berlin:20230421T210000
SUMMARY:Herren 5 - TV Ashhausen 2 (A)
URL:https://tv-apen.de/index.php/kalender/44-tischtennis/4561-herren-5-tv-a
 shhausen-2-a
END:VEVENT
BEGIN:VEVENT
UID:20230907T200000CEST-68030kwsK5@https://www.tv-apen.de/
DTSTAMP:20260421T101833Z
CATEGORIES:Tischtennis
DESCRIPTION:
DTSTART;TZID=Europe/Berlin:20230907T000000
DTEND;TZID=Europe/Berlin:20230907T210000
SUMMARY:Herren  4 - TuS Augustfehn 2 (A)
URL:https://tv-apen.de/index.php/kalender/44-tischtennis/4646-herren-4-tus-
 augustfehn-2-a
END:VEVENT
BEGIN:VEVENT
UID:20230909T143000CEST-26745nVzXv@https://www.tv-apen.de/
DTSTAMP:20260421T101833Z
CATEGORIES:Tischtennis
DESCRIPTION:
DTSTART;TZID=Europe/Berlin:20230909T000000
DTEND;TZID=Europe/Berlin:20230909T153000
SUMMARY:Herren 1 - SV GG Roffhausen  (A )
URL:https://tv-apen.de/index.php/kalender/44-tischtennis/4612-herren-1-sv-g
 g-roffhausen-a
END:VEVENT
BEGIN:VEVENT
UID:20230913T200000CEST-8968tcRcmV@https://www.tv-apen.de/
DTSTAMP:20260421T101833Z
CATEGORIES:Tischtennis
DESCRIPTION:
DTSTART;TZID=Europe/Berlin:20230913T000000
DTEND;TZID=Europe/Berlin:20230913T210000
SUMMARY:Herren 2 - FC Rastede 4  (A)
URL:https://tv-apen.de/index.php/kalender/44-tischtennis/4622-herren-2-fc-r
 astede-4-a
END:VEVENT
END:VCALENDAR
