BEGIN:VCALENDAR
VERSION:2.0
PRODID:-//https://tv-apen.de//NONSGML kigkonsult.se iCalcreator 2.23.20//
METHOD:PUBLISH
X-WR-CALNAME:JCal Pro Kalender
X-WR-CALDESC:Ihr Online-Terminkalender
X-WR-TIMEZONE:Europe/Berlin
BEGIN:VTIMEZONE
TZID:Europe/Berlin
BEGIN:STANDARD
DTSTART:20231029T030000
TZOFFSETFROM:+0200
TZOFFSETTO:+0100
RDATE:20241027T030000
TZNAME:CET
END:STANDARD
BEGIN:DAYLIGHT
DTSTART:20230326T020000
TZOFFSETFROM:+0100
TZOFFSETTO:+0200
RDATE:20240331T020000,20250330T020000
TZNAME:CEST
END:DAYLIGHT
END:VTIMEZONE
BEGIN:VEVENT
UID:20230915T200000CEST-8968T8unuP@https://www.tv-apen.de/
DTSTAMP:20260421T094601Z
CATEGORIES:Tischtennis
DESCRIPTION:
DTSTART;TZID=Europe/Berlin:20230915T000000
DTEND;TZID=Europe/Berlin:20230915T210000
SUMMARY:Herren 5 - TT WST/Ekern SG 9 (A)
URL:https://tv-apen.de/index.php/kalender/44-tischtennis/4636-herren-5-tt-w
 st-ekern-sg-9-a
END:VEVENT
BEGIN:VEVENT
UID:20230919T200000CEST-72452kvjVI@https://www.tv-apen.de/
DTSTAMP:20260421T094601Z
CATEGORIES:Tischtennis
DESCRIPTION:
DTSTART;TZID=Europe/Berlin:20230919T000000
DTEND;TZID=Europe/Berlin:20230919T210000
SUMMARY:Herren 2 - SSV Gristede   (H)
URL:https://tv-apen.de/index.php/kalender/44-tischtennis/4623-herren-2-ssv-
 gristede-h
END:VEVENT
BEGIN:VEVENT
UID:20230919T200000CEST-5243O6aZgG@https://www.tv-apen.de/
DTSTAMP:20260421T094601Z
CATEGORIES:Tischtennis
DESCRIPTION:
DTSTART;TZID=Europe/Berlin:20230919T200000
SUMMARY:Herren 4 - Herren  5   (H)
URL:https://tv-apen.de/index.php/kalender/44-tischtennis/4647-herren-4-herr
 en-5-h
END:VEVENT
BEGIN:VEVENT
UID:20230921T200000CEST-7083u37dx1@https://www.tv-apen.de/
DTSTAMP:20260421T094601Z
CATEGORIES:Tischtennis
DESCRIPTION:
DTSTART;TZID=Europe/Berlin:20230921T200000
SUMMARY:Herren 5 - TuS Augustfehn 2 (A)
URL:https://tv-apen.de/index.php/kalender/44-tischtennis/4638-herren-5-tus-
 augustfehn-2-a
END:VEVENT
BEGIN:VEVENT
UID:20230921T200000CEST-0742SRNvfX@https://www.tv-apen.de/
DTSTAMP:20260421T094601Z
CATEGORIES:Tischtennis
DESCRIPTION:
DTSTART;TZID=Europe/Berlin:20230921T200000
SUMMARY:Herren 4 - TV Aschhausen  2 (A)
URL:https://tv-apen.de/index.php/kalender/44-tischtennis/4648-herren-4-tv-a
 schhausen-2-a
END:VEVENT
BEGIN:VEVENT
UID:20230922T203000CEST-5098glNwBo@https://www.tv-apen.de/
DTSTAMP:20260421T094601Z
CATEGORIES:Tischtennis
DESCRIPTION:
DTSTART;TZID=Europe/Berlin:20230922T000000
DTEND;TZID=Europe/Berlin:20230922T213000
SUMMARY:Herren 1 - TV gut Heil Neuenburg (A)
URL:https://tv-apen.de/index.php/kalender/44-tischtennis/4613-herren-1-tv-g
 ut-heil-neuenburg-a
END:VEVENT
BEGIN:VEVENT
UID:20230926T193000CEST-9698wFwNxR@https://www.tv-apen.de/
DTSTAMP:20260421T094601Z
CATEGORIES:Tischtennis
DESCRIPTION:
DTSTART;TZID=Europe/Berlin:20230926T000000
DTEND;TZID=Europe/Berlin:20230926T203000
SUMMARY:Herren 2 - TuS Rostrup (A)
URL:https://tv-apen.de/index.php/kalender/44-tischtennis/4624-herren-2-tus-
 rostrup-a
END:VEVENT
BEGIN:VEVENT
UID:20230926T201500CEST-9986mIjjcb@https://www.tv-apen.de/
DTSTAMP:20260421T094601Z
CATEGORIES:Tischtennis
DESCRIPTION:
DTSTART;TZID=Europe/Berlin:20230926T000000
DTEND;TZID=Europe/Berlin:20230926T211500
SUMMARY:Herren 1 - TuS Zetel (H)
URL:https://tv-apen.de/index.php/kalender/44-tischtennis/4614-herren-1-tus-
 zetel-h
END:VEVENT
BEGIN:VEVENT
UID:20230929T200000CEST-9542001oCR@https://www.tv-apen.de/
DTSTAMP:20260421T094601Z
CATEGORIES:Tischtennis
DESCRIPTION:
DTSTART;TZID=Europe/Berlin:20230929T000000
DTEND;TZID=Europe/Berlin:20230929T210000
SUMMARY:Herren 2 - SSV Jeddeloh 3 (A)
URL:https://tv-apen.de/index.php/kalender/44-tischtennis/4630-herren-2-ssv-
 jeddeloh-3-a
END:VEVENT
BEGIN:VEVENT
UID:20230929T200000CEST-3087PPwe8U@https://www.tv-apen.de/
DTSTAMP:20260421T094601Z
CATEGORIES:Tischtennis
DESCRIPTION:
DTSTART;TZID=Europe/Berlin:20230929T000000
DTEND;TZID=Europe/Berlin:20230929T210000
SUMMARY:Herren 5 - SVE Wiefelstede  3  (H)
URL:https://tv-apen.de/index.php/kalender/44-tischtennis/4639-herren-5-sve-
 wiefelstede-3-h
END:VEVENT
BEGIN:VEVENT
UID:20231006T201500CEST-1027uVgGev@https://www.tv-apen.de/
DTSTAMP:20260421T094601Z
CATEGORIES:Tischtennis
DESCRIPTION:
DTSTART;TZID=Europe/Berlin:20231006T000000
DTEND;TZID=Europe/Berlin:20231006T211500
SUMMARY:Herren 1 - TTWST/Ekern/SG 4 (H)
URL:https://tv-apen.de/index.php/kalender/44-tischtennis/4615-herren-1-ttws
 t-ekern-sg-4-h
END:VEVENT
BEGIN:VEVENT
UID:20231009T200000CEST-1841O2z30B@https://www.tv-apen.de/
DTSTAMP:20260421T094601Z
CATEGORIES:Tischtennis
DESCRIPTION:
DTSTART;TZID=Europe/Berlin:20231009T000000
DTEND;TZID=Europe/Berlin:20231009T210000
SUMMARY:Herren 3 - SVE Wiefelstede 2 (A)
URL:https://tv-apen.de/index.php/kalender/44-tischtennis/4631-herren-3-sve-
 wiefelstede-2-a
END:VEVENT
BEGIN:VEVENT
UID:20231009T200000CEST-6437EZ8Wnx@https://www.tv-apen.de/
DTSTAMP:20260421T094601Z
CATEGORIES:Tischtennis
DESCRIPTION:
DTSTART;TZID=Europe/Berlin:20231009T200000
SUMMARY:Herren 4 - TSG Husbäke 2 (A)
URL:https://tv-apen.de/index.php/kalender/44-tischtennis/4649-herren-4-tsg-
 husbaeke-2-a
END:VEVENT
BEGIN:VEVENT
UID:20231010T200000CEST-851798hgbe@https://www.tv-apen.de/
DTSTAMP:20260421T094601Z
CATEGORIES:Tischtennis
DESCRIPTION:
DTSTART;TZID=Europe/Berlin:20231010T200000
SUMMARY:Herren 1 - VfL Edewecht  (H)
URL:https://tv-apen.de/index.php/kalender/44-tischtennis/4616-herren-1-vfl-
 edewecht-h
END:VEVENT
BEGIN:VEVENT
UID:20231010T200000CEST-1651PmOZV4@https://www.tv-apen.de/
DTSTAMP:20260421T094601Z
CATEGORIES:Tischtennis
DESCRIPTION:
DTSTART;TZID=Europe/Berlin:20231010T200000
SUMMARY:Herren 5 - TV Aschhausen 2  (H)
URL:https://tv-apen.de/index.php/kalender/44-tischtennis/4640-herren-5-tv-a
 schhausen-2-h
END:VEVENT
BEGIN:VEVENT
UID:20231013T200000CEST-5515mXfpU3@https://www.tv-apen.de/
DTSTAMP:20260421T094601Z
CATEGORIES:Tischtennis
DESCRIPTION:
DTSTART;TZID=Europe/Berlin:20231013T000000
DTEND;TZID=Europe/Berlin:20231013T210000
SUMMARY:Herren 3 - FC Rastede 5 (H)
URL:https://tv-apen.de/index.php/kalender/44-tischtennis/4632-herren-3-fc-r
 astede-5-h
END:VEVENT
BEGIN:VEVENT
UID:20231013T200000CEST-90334BIwlu@https://www.tv-apen.de/
DTSTAMP:20260421T094601Z
CATEGORIES:Tischtennis
DESCRIPTION:
DTSTART;TZID=Europe/Berlin:20231013T000000
DTEND;TZID=Europe/Berlin:20231013T210000
SUMMARY:Herren 5 - TuS Ocholt 2 (A)
URL:https://tv-apen.de/index.php/kalender/44-tischtennis/4641-herren-5-tus-
 ocholt-2-a
END:VEVENT
BEGIN:VEVENT
UID:20231013T200000CEST-0993JMRU1e@https://www.tv-apen.de/
DTSTAMP:20260421T094601Z
CATEGORIES:Tischtennis
DESCRIPTION:
DTSTART;TZID=Europe/Berlin:20231013T000000
DTEND;TZID=Europe/Berlin:20231013T210000
SUMMARY:Herren 4 - TV Metjendorf  (A)
URL:https://tv-apen.de/index.php/kalender/44-tischtennis/4650-herren-4-tv-m
 etjendorf-a
END:VEVENT
BEGIN:VEVENT
UID:20231023T200000CEST-0352ivpwuO@https://www.tv-apen.de/
DTSTAMP:20260421T094601Z
CATEGORIES:Tischtennis
DESCRIPTION:
DTSTART;TZID=Europe/Berlin:20231023T000000
DTEND;TZID=Europe/Berlin:20231023T210000
SUMMARY:Herren 5 - SSV Wittenberge  (A)
URL:https://tv-apen.de/index.php/kalender/44-tischtennis/4642-herren-5-ssv-
 wittenberge-a
END:VEVENT
BEGIN:VEVENT
UID:20231103T200000CET-2326xOR5vf@https://www.tv-apen.de/
DTSTAMP:20260421T094601Z
CATEGORIES:Tischtennis
DESCRIPTION:
DTSTART;TZID=Europe/Berlin:20231103T000000
DTEND;TZID=Europe/Berlin:20231103T210000
SUMMARY:Herren 2 - SSV Wittenberge (H)
URL:https://tv-apen.de/index.php/kalender/44-tischtennis/4625-herren-2-ssv-
 wittenberge-h
END:VEVENT
END:VCALENDAR
