BEGIN:VCALENDAR
VERSION:2.0
PRODID:-//https://tv-apen.de//NONSGML kigkonsult.se iCalcreator 2.23.20//
METHOD:PUBLISH
X-WR-CALNAME:JCal Pro Kalender
X-WR-CALDESC:Ihr Online-Terminkalender
X-WR-TIMEZONE:Europe/Berlin
BEGIN:VTIMEZONE
TZID:Europe/Berlin
BEGIN:STANDARD
DTSTART:20231029T030000
TZOFFSETFROM:+0200
TZOFFSETTO:+0100
RDATE:20241027T030000
TZNAME:CET
END:STANDARD
BEGIN:DAYLIGHT
DTSTART:20240331T020000
TZOFFSETFROM:+0100
TZOFFSETTO:+0200
RDATE:20250330T020000
TZNAME:CEST
END:DAYLIGHT
END:VTIMEZONE
BEGIN:VEVENT
UID:20240112T200000CET-4402RppwJm@https://www.tv-apen.de/
DTSTAMP:20260421T101840Z
CATEGORIES:Tischtennis
DESCRIPTION:
DTSTART;TZID=Europe/Berlin:20240112T000000
DTEND;TZID=Europe/Berlin:20240112T210000
SUMMARY:Herren 4 - TT WST/Ekern SG 9 (A) in WST
URL:https://tv-apen.de/index.php/kalender/44-tischtennis/4685-herren-4-tt-w
 st-ekern-sg-9-a-in-wst
END:VEVENT
BEGIN:VEVENT
UID:20240114T110000CET-6711i0Tov1@https://www.tv-apen.de/
DTSTAMP:20260421T101840Z
CATEGORIES:Tischtennis
DESCRIPTION:
DTSTART;TZID=Europe/Berlin:20240114T000000
DTEND;TZID=Europe/Berlin:20240114T120000
SUMMARY:Herren 1 - Wilhelmshavener SSV  (A)
URL:https://tv-apen.de/index.php/kalender/44-tischtennis/4666-herren-1-wilh
 elmshavener-ssv-a
END:VEVENT
BEGIN:VEVENT
UID:20240116T200000CET-0561fsA2b0@https://www.tv-apen.de/
DTSTAMP:20260421T101840Z
CATEGORIES:Tischtennis
DESCRIPTION:
DTSTART;TZID=Europe/Berlin:20240116T000000
DTEND;TZID=Europe/Berlin:20240116T210000
SUMMARY:Herren 2 - FC  Rastede 4 (H)
URL:https://tv-apen.de/index.php/kalender/44-tischtennis/4658-herren-2-fc-r
 astede-4-h
END:VEVENT
BEGIN:VEVENT
UID:20240116T200000CET-0419P2bpLa@https://www.tv-apen.de/
DTSTAMP:20260421T101840Z
CATEGORIES:Tischtennis
DESCRIPTION:
DTSTART;TZID=Europe/Berlin:20240116T000000
DTEND;TZID=Europe/Berlin:20240116T210000
SUMMARY:Herren 5 - Herren  4  (H)
URL:https://tv-apen.de/index.php/kalender/44-tischtennis/4675-herren-5-herr
 en-4-h
END:VEVENT
BEGIN:VEVENT
UID:20240116T200000CET-1871XlDvTn@https://www.tv-apen.de/
DTSTAMP:20260421T101840Z
CATEGORIES:Tischtennis
DESCRIPTION:
DTSTART;TZID=Europe/Berlin:20240116T000000
DTEND;TZID=Europe/Berlin:20240116T210000
SUMMARY:Herren 5 - Herren  4 (A)
URL:https://tv-apen.de/index.php/kalender/44-tischtennis/4686-herren-5-herr
 en-4-a
END:VEVENT
BEGIN:VEVENT
UID:20240119T200000CET-8329zPvLvK@https://www.tv-apen.de/
DTSTAMP:20260421T101840Z
CATEGORIES:Tischtennis
DESCRIPTION:
DTSTART;TZID=Europe/Berlin:20240119T000000
DTEND;TZID=Europe/Berlin:20240119T210000
SUMMARY:Herren 1 - SVE Wiefelstede  (H)
URL:https://tv-apen.de/index.php/kalender/44-tischtennis/4667-herren-1-sve-
 wiefelstede-h
END:VEVENT
BEGIN:VEVENT
UID:20240119T200000CET-4335lFWnHH@https://www.tv-apen.de/
DTSTAMP:20260421T101840Z
CATEGORIES:Tischtennis
DESCRIPTION:
DTSTART;TZID=Europe/Berlin:20240119T000000
DTEND;TZID=Europe/Berlin:20240119T210000
SUMMARY:Herren 5  - SVE Wiefelstede  3  (A)
URL:https://tv-apen.de/index.php/kalender/44-tischtennis/4676-herren-5-sve-
 wiefelstede-3-a
END:VEVENT
BEGIN:VEVENT
UID:20240122T200000CET-0769v6rwxS@https://www.tv-apen.de/
DTSTAMP:20260421T101840Z
CATEGORIES:Tischtennis
DESCRIPTION:
DTSTART;TZID=Europe/Berlin:20240122T000000
DTEND;TZID=Europe/Berlin:20240122T203000
SUMMARY:Herren 2 - SSV Wittenberge (A)
URL:https://tv-apen.de/index.php/kalender/44-tischtennis/4659-herren-2-ssv-
 wittenberge-a
END:VEVENT
BEGIN:VEVENT
UID:20240123T200000CET-6604Ova8L0@https://www.tv-apen.de/
DTSTAMP:20260421T101840Z
CATEGORIES:Tischtennis
DESCRIPTION:
DTSTART;TZID=Europe/Berlin:20240123T000000
DTEND;TZID=Europe/Berlin:20240123T210000
SUMMARY:Herren  4   - TuS Ocholt 2 (A)
URL:https://tv-apen.de/index.php/kalender/44-tischtennis/4687-herren-4-tus-
 ocholt-2-a
END:VEVENT
BEGIN:VEVENT
UID:20240126T200000CET-0922tuvT1w@https://www.tv-apen.de/
DTSTAMP:20260421T101840Z
CATEGORIES:Tischtennis
DESCRIPTION:
DTSTART;TZID=Europe/Berlin:20240126T000000
DTEND;TZID=Europe/Berlin:20240126T210000
SUMMARY:Herren 1 - TSG Bokel (H)
URL:https://tv-apen.de/index.php/kalender/44-tischtennis/4668-herren-1-tsg-
 bokel-h
END:VEVENT
BEGIN:VEVENT
UID:20240126T200000CET-8791uM43SC@https://www.tv-apen.de/
DTSTAMP:20260421T101840Z
CATEGORIES:Tischtennis
DESCRIPTION:
DTSTART;TZID=Europe/Berlin:20240126T000000
DTEND;TZID=Europe/Berlin:20240126T210000
SUMMARY:Herren 5 - TT WST/Ekern SG 9  (H)
URL:https://tv-apen.de/index.php/kalender/44-tischtennis/4677-herren-5-tt-w
 st-ekern-sg-9-h
END:VEVENT
BEGIN:VEVENT
UID:20240206T200000CET-8522FzGrUx@https://www.tv-apen.de/
DTSTAMP:20260421T101840Z
CATEGORIES:Tischtennis
DESCRIPTION:
DTSTART;TZID=Europe/Berlin:20240206T000000
DTEND;TZID=Europe/Berlin:20240206T210000
SUMMARY:Herren 1 - TuS Ocholt   (A)
URL:https://tv-apen.de/index.php/kalender/44-tischtennis/4669-herren-1-tus-
 ocholt-a
END:VEVENT
BEGIN:VEVENT
UID:20240206T200000CET-6912GsfZsv@https://www.tv-apen.de/
DTSTAMP:20260421T101840Z
CATEGORIES:Tischtennis
DESCRIPTION:
DTSTART;TZID=Europe/Berlin:20240206T000000
DTEND;TZID=Europe/Berlin:20240206T210000
SUMMARY:Herren 5 - SSV Wittenberge  2  (H)
URL:https://tv-apen.de/index.php/kalender/44-tischtennis/4678-herren-5-ssv-
 wittenberge-2-h
END:VEVENT
BEGIN:VEVENT
UID:20240206T200000CET-9385UAOOL1@https://www.tv-apen.de/
DTSTAMP:20260421T101840Z
CATEGORIES:Tischtennis
DESCRIPTION:
DTSTART;TZID=Europe/Berlin:20240206T000000
DTEND;TZID=Europe/Berlin:20240206T210000
SUMMARY:Herren 4 - TV Metjendorf (H)
URL:https://tv-apen.de/index.php/kalender/44-tischtennis/4688-herren-4-tv-m
 etjendorf-h
END:VEVENT
BEGIN:VEVENT
UID:20240209T200000CET-9971xc6iFs@https://www.tv-apen.de/
DTSTAMP:20260421T101840Z
CATEGORIES:Tischtennis
DESCRIPTION:
DTSTART;TZID=Europe/Berlin:20240209T000000
DTEND;TZID=Europe/Berlin:20240209T210000
SUMMARY:Herren  2 - Ofen ( A )
URL:https://tv-apen.de/index.php/kalender/44-tischtennis/4660-herren-2-ofen
 -a
END:VEVENT
BEGIN:VEVENT
UID:20240209T200000CET-6205VvJNst@https://www.tv-apen.de/
DTSTAMP:20260421T101840Z
CATEGORIES:Tischtennis
DESCRIPTION:
DTSTART;TZID=Europe/Berlin:20240209T000000
DTEND;TZID=Europe/Berlin:20240209T210000
SUMMARY:Herren 1 - TV Gut Heil Neuenburg (H)
URL:https://tv-apen.de/index.php/kalender/44-tischtennis/4674-herren-1-tv-g
 ut-heil-neuenburg-h
END:VEVENT
BEGIN:VEVENT
UID:20240209T200000CET-9323uujucZ@https://www.tv-apen.de/
DTSTAMP:20260421T101840Z
CATEGORIES:Tischtennis
DESCRIPTION:
DTSTART;TZID=Europe/Berlin:20240209T000000
DTEND;TZID=Europe/Berlin:20240209T210000
SUMMARY:Herren  4 - TSG Husbäke  2  (H)
URL:https://tv-apen.de/index.php/kalender/44-tischtennis/4689-herren-4-tsg-
 husbaeke-2-h
END:VEVENT
BEGIN:VEVENT
UID:20240209T200000CET-7065Po6IPO@https://www.tv-apen.de/
DTSTAMP:20260421T101840Z
CATEGORIES:Tischtennis
DESCRIPTION:
DTSTART;TZID=Europe/Berlin:20240209T000000
DTEND;TZID=Europe/Berlin:20240209T210000
SUMMARY:Herren  3 - FC Rastede  5  (A)
URL:https://tv-apen.de/index.php/kalender/44-tischtennis/4696-herren-3-fc-r
 astede-5-a
END:VEVENT
BEGIN:VEVENT
UID:20240216T200000CET-3118ddA0VC@https://www.tv-apen.de/
DTSTAMP:20260421T101840Z
CATEGORIES:Tischtennis
DESCRIPTION:
DTSTART;TZID=Europe/Berlin:20240216T000000
DTEND;TZID=Europe/Berlin:20240216T210000
SUMMARY:Herren 4 - TuS Augustfehn 2 (H)
URL:https://tv-apen.de/index.php/kalender/44-tischtennis/4690-herren-4-tus-
 augustfehn-2-h
END:VEVENT
BEGIN:VEVENT
UID:20240216T200000CET-6477umugEO@https://www.tv-apen.de/
DTSTAMP:20260421T101840Z
CATEGORIES:Tischtennis
DESCRIPTION:
DTSTART;TZID=Europe/Berlin:20240216T000000
DTEND;TZID=Europe/Berlin:20240216T210000
SUMMARY:Herren 3 - VfL Edewecht  2 (H)
URL:https://tv-apen.de/index.php/kalender/44-tischtennis/4697-herren-3-vfl-
 edewecht-2-h
END:VEVENT
END:VCALENDAR
