BEGIN:VCALENDAR
VERSION:2.0
PRODID:-//https://tv-apen.de//NONSGML kigkonsult.se iCalcreator 2.23.20//
METHOD:PUBLISH
X-WR-CALNAME:JCal Pro Kalender
X-WR-CALDESC:Ihr Online-Terminkalender
X-WR-TIMEZONE:Europe/Berlin
BEGIN:VTIMEZONE
TZID:Europe/Berlin
BEGIN:STANDARD
DTSTART:20241027T030000
TZOFFSETFROM:+0200
TZOFFSETTO:+0100
RDATE:20251026T030000
TZNAME:CET
END:STANDARD
BEGIN:DAYLIGHT
DTSTART:20250330T020000
TZOFFSETFROM:+0100
TZOFFSETTO:+0200
RDATE:20260329T020000
TZNAME:CEST
END:DAYLIGHT
END:VTIMEZONE
BEGIN:VEVENT
UID:20250214T200000CET-3786DoWT8b@https://www.tv-apen.de/
DTSTAMP:20260419T122432Z
CATEGORIES:Tischtennis
DESCRIPTION:
DTSTART;TZID=Europe/Berlin:20250214T000000
DTEND;TZID=Europe/Berlin:20250214T210000
SUMMARY:Herren  4 - TuS Ocholt  2  (H)
URL:https://tv-apen.de/index.php/kalender/44-tischtennis/4808-herren-4-tus-
 ocholt-2-h
END:VEVENT
BEGIN:VEVENT
UID:20250214T200000CET-3185c3sUeL@https://www.tv-apen.de/
DTSTAMP:20260419T122432Z
CATEGORIES:Tischtennis
DESCRIPTION:
DTSTART;TZID=Europe/Berlin:20250214T000000
DTEND;TZID=Europe/Berlin:20250214T210000
SUMMARY:Herren  3 - TV Metjendorf  (H)
URL:https://tv-apen.de/index.php/kalender/44-tischtennis/4823-herren-3-tv-m
 etjendorf-h
END:VEVENT
BEGIN:VEVENT
UID:20250221T200000CET-69855mIFku@https://www.tv-apen.de/
DTSTAMP:20260419T122432Z
CATEGORIES:Tischtennis
DESCRIPTION:
DTSTART;TZID=Europe/Berlin:20250221T000000
DTEND;TZID=Europe/Berlin:20250221T210000
SUMMARY:Herren  5 - FC Rastede  6  (H)
URL:https://tv-apen.de/index.php/kalender/44-tischtennis/4815-herren-5-fc-r
 astede-6-h
END:VEVENT
BEGIN:VEVENT
UID:20250221T200000CET-5021UxpPsV@https://www.tv-apen.de/
DTSTAMP:20260419T122432Z
CATEGORIES:Tischtennis
DESCRIPTION:
DTSTART;TZID=Europe/Berlin:20250221T000000
DTEND;TZID=Europe/Berlin:20250221T210000
SUMMARY:Herren  3 - SSV Jeddeloh   4   (H)
URL:https://tv-apen.de/index.php/kalender/44-tischtennis/4824-herren-3-ssv-
 jeddeloh-4-h
END:VEVENT
BEGIN:VEVENT
UID:20250228T200000CET-5057WU7EKJ@https://www.tv-apen.de/
DTSTAMP:20260419T122432Z
CATEGORIES:Tischtennis
DESCRIPTION:
DTSTART;TZID=Europe/Berlin:20250228T000000
DTEND;TZID=Europe/Berlin:20250228T210000
SUMMARY:Herren  2 - TT WST/Ekern SG  5  (H)
URL:https://tv-apen.de/index.php/kalender/44-tischtennis/4799-herren-2-tt-w
 st-ekern-sg-5-h
END:VEVENT
BEGIN:VEVENT
UID:20250228T200000CET-8443XcghBT@https://www.tv-apen.de/
DTSTAMP:20260419T122432Z
CATEGORIES:Tischtennis
DESCRIPTION:
DTSTART;TZID=Europe/Berlin:20250228T000000
DTEND;TZID=Europe/Berlin:20250228T210000
SUMMARY:Herren  4 - SSV Jeddeloh  5  (H)
URL:https://tv-apen.de/index.php/kalender/44-tischtennis/4809-herren-4-ssv-
 jeddeloh-5-h
END:VEVENT
BEGIN:VEVENT
UID:20250228T200000CET-77814AtWiS@https://www.tv-apen.de/
DTSTAMP:20260419T122432Z
CATEGORIES:Tischtennis
DESCRIPTION:
DTSTART;TZID=Europe/Berlin:20250228T000000
DTEND;TZID=Europe/Berlin:20250228T210000
SUMMARY:Herren  5 - TuS Ocholt 2  (A)
URL:https://tv-apen.de/index.php/kalender/44-tischtennis/4816-herren-5-tus-
 ocholt-2-a
END:VEVENT
BEGIN:VEVENT
UID:20250228T200000CET-6727c7TGAZ@https://www.tv-apen.de/
DTSTAMP:20260419T122432Z
CATEGORIES:Tischtennis
DESCRIPTION:
DTSTART;TZID=Europe/Berlin:20250228T000000
DTEND;TZID=Europe/Berlin:20250228T210000
SUMMARY:Herren  3  -  FC Rastede  7   /A)
URL:https://tv-apen.de/index.php/kalender/44-tischtennis/4825-herren-3-fc-r
 astede-7-a
END:VEVENT
BEGIN:VEVENT
UID:20250303T193000CET-8331kw6kU8@https://www.tv-apen.de/
DTSTAMP:20260419T122432Z
CATEGORIES:Tischtennis
DESCRIPTION:
DTSTART;TZID=Europe/Berlin:20250303T000000
DTEND;TZID=Europe/Berlin:20250303T203000
SUMMARY:Herren  4 - SSV Wittenberge  (A)
URL:https://tv-apen.de/index.php/kalender/44-tischtennis/4810-herren-4-ssv-
 wittenberge-a
END:VEVENT
BEGIN:VEVENT
UID:20250304T200000CET-6347pPSsdO@https://www.tv-apen.de/
DTSTAMP:20260419T122432Z
CATEGORIES:Tischtennis
DESCRIPTION:
DTSTART;TZID=Europe/Berlin:20250304T000000
DTEND;TZID=Europe/Berlin:20250304T210000
SUMMARY:Herren  6  - SSV Gristede  4  (H)
URL:https://tv-apen.de/index.php/kalender/44-tischtennis/4789-herren-6-ssv-
 gristede-4-h
END:VEVENT
BEGIN:VEVENT
UID:20250307T200000CET-1064u2oWc5@https://www.tv-apen.de/
DTSTAMP:20260419T122432Z
CATEGORIES:Tischtennis
DESCRIPTION:
DTSTART;TZID=Europe/Berlin:20250307T000000
DTEND;TZID=Europe/Berlin:20250307T210000
SUMMARY:Herren  5 - VfL Edewecht  3  (H)
URL:https://tv-apen.de/index.php/kalender/44-tischtennis/4817-herren-5-vfl-
 edewecht-3-h
END:VEVENT
BEGIN:VEVENT
UID:20250307T201500CET-3538I5uDum@https://www.tv-apen.de/
DTSTAMP:20260419T122432Z
CATEGORIES:Tischtennis
DESCRIPTION:
DTSTART;TZID=Europe/Berlin:20250307T000000
DTEND;TZID=Europe/Berlin:20250307T211500
SUMMARY:Herren  1 - ETV Wilhelmshaven 1  (A)
URL:https://tv-apen.de/index.php/kalender/44-tischtennis/4781-herren-1-etv-
 wilhelmshaven-1-a
END:VEVENT
BEGIN:VEVENT
UID:20250307T201500CET-7573pBktM6@https://www.tv-apen.de/
DTSTAMP:20260419T122432Z
CATEGORIES:Tischtennis
DESCRIPTION:
DTSTART;TZID=Europe/Berlin:20250307T000000
DTEND;TZID=Europe/Berlin:20250307T211500
SUMMARY:Herren  2 - TT WST/Ekern SG 7 (A) in Ekern
URL:https://tv-apen.de/index.php/kalender/44-tischtennis/4800-herren-2-tt-w
 st-ekern-sg-7-a-in-ekern
END:VEVENT
BEGIN:VEVENT
UID:20250311T200000CET-784741xziH@https://www.tv-apen.de/
DTSTAMP:20260419T122432Z
CATEGORIES:Tischtennis
DESCRIPTION:
DTSTART;TZID=Europe/Berlin:20250311T000000
DTEND;TZID=Europe/Berlin:20250311T210000
SUMMARY:Herren  6  - SSV Jeddeloh  6   (H)
URL:https://tv-apen.de/index.php/kalender/44-tischtennis/4790-herren-6-ssv-
 jeddeloh-6-h
END:VEVENT
BEGIN:VEVENT
UID:20250316T110000CET-9975H5SKtN@https://www.tv-apen.de/
DTSTAMP:20260419T122432Z
CATEGORIES:Tischtennis
DESCRIPTION:
DTSTART;TZID=Europe/Berlin:20250316T000000
DTEND;TZID=Europe/Berlin:20250316T120000
SUMMARY:Herren 1 - Wilhelmshavener SSV (A)
URL:https://tv-apen.de/index.php/kalender/44-tischtennis/4782-herren-1-wilh
 elmshavener-ssv-a
END:VEVENT
BEGIN:VEVENT
UID:20250317T193000CET-8949g8DoIx@https://www.tv-apen.de/
DTSTAMP:20260419T122432Z
CATEGORIES:Tischtennis
DESCRIPTION:
DTSTART;TZID=Europe/Berlin:20250317T000000
DTEND;TZID=Europe/Berlin:20250317T203000
SUMMARY:Herren  5  -  SSV Wittenberge  (A)
URL:https://tv-apen.de/index.php/kalender/44-tischtennis/4818-herren-5-ssv-
 wittenberge-a
END:VEVENT
BEGIN:VEVENT
UID:20250317T200000CET-9223ft3gu9@https://www.tv-apen.de/
DTSTAMP:20260419T122432Z
CATEGORIES:Tischtennis
DESCRIPTION:
DTSTART;TZID=Europe/Berlin:20250317T000000
DTEND;TZID=Europe/Berlin:20250317T210000
SUMMARY:Herren  4 - VfL Edewecjt  3 (A)
URL:https://tv-apen.de/index.php/kalender/44-tischtennis/4811-herren-4-vfl-
 edewecjt-3-a
END:VEVENT
BEGIN:VEVENT
UID:20250319T200000CET-3047cwE86V@https://www.tv-apen.de/
DTSTAMP:20260419T122432Z
CATEGORIES:Tischtennis
DESCRIPTION:
DTSTART;TZID=Europe/Berlin:20250319T000000
DTEND;TZID=Europe/Berlin:20250319T210000
SUMMARY:Herren  6 - TSG  Husbäke  3    (A)
URL:https://tv-apen.de/index.php/kalender/44-tischtennis/4795-herren-6-tsg-
 husbaeke-3-a
END:VEVENT
BEGIN:VEVENT
UID:20250320T200000CET-3556WPlkEu@https://www.tv-apen.de/
DTSTAMP:20260419T122432Z
CATEGORIES:Tischtennis
DESCRIPTION:
DTSTART;TZID=Europe/Berlin:20250320T000000
DTEND;TZID=Europe/Berlin:20250320T210000
SUMMARY:Herren  5  - SSV Jeddeloh  5  (A)
URL:https://tv-apen.de/index.php/kalender/44-tischtennis/4819-herren-5-ssv-
 jeddeloh-5-a
END:VEVENT
BEGIN:VEVENT
UID:20250321T200000CET-8310V0vZXn@https://www.tv-apen.de/
DTSTAMP:20260419T122432Z
CATEGORIES:Tischtennis
DESCRIPTION:
DTSTART;TZID=Europe/Berlin:20250321T000000
DTEND;TZID=Europe/Berlin:20250321T210000
SUMMARY:Herren  6 - TuS Augustfehn  3  ( H )
URL:https://tv-apen.de/index.php/kalender/44-tischtennis/4793-herren-6-tus-
 augustfehn-3-h
END:VEVENT
END:VCALENDAR
