BEGIN:VCALENDAR
VERSION:2.0
PRODID:-//https://tv-apen.de//NONSGML kigkonsult.se iCalcreator 2.23.20//
METHOD:PUBLISH
X-WR-CALNAME:JCal Pro Kalender
X-WR-CALDESC:Ihr Online-Terminkalender
X-WR-TIMEZONE:Europe/Berlin
BEGIN:VTIMEZONE
TZID:Europe/Berlin
BEGIN:STANDARD
DTSTART:20241027T030000
TZOFFSETFROM:+0200
TZOFFSETTO:+0100
RDATE:20251026T030000,20261025T030000
TZNAME:CET
END:STANDARD
BEGIN:DAYLIGHT
DTSTART:20250330T020000
TZOFFSETFROM:+0100
TZOFFSETTO:+0200
RDATE:20260329T020000,20270328T020000
TZNAME:CEST
END:DAYLIGHT
END:VTIMEZONE
BEGIN:VEVENT
UID:20250321T200000CET-76846CrvAu@https://www.tv-apen.de/
DTSTAMP:20260419T122443Z
CATEGORIES:Tischtennis
DESCRIPTION:
DTSTART;TZID=Europe/Berlin:20250321T000000
DTEND;TZID=Europe/Berlin:20250321T210000
SUMMARY:Herren  2 - SSV Gristede   (H)
URL:https://tv-apen.de/index.php/kalender/44-tischtennis/4801-herren-2-ssv-
 gristede-h
END:VEVENT
BEGIN:VEVENT
UID:20250321T203000CET-9424vujAOZ@https://www.tv-apen.de/
DTSTAMP:20260419T122443Z
CATEGORIES:Tischtennis
DESCRIPTION:
DTSTART;TZID=Europe/Berlin:20250321T000000
DTEND;TZID=Europe/Berlin:20250321T213000
SUMMARY:Herren 1 - SV Grün/Gelb Roffhausen /H)
URL:https://tv-apen.de/index.php/kalender/44-tischtennis/4783-herren-1-sv-g
 ruen-gelb-roffhausen-h
END:VEVENT
BEGIN:VEVENT
UID:20250328T200000CET-6281P0oSPZ@https://www.tv-apen.de/
DTSTAMP:20260419T122443Z
CATEGORIES:Tischtennis
DESCRIPTION:
DTSTART;TZID=Europe/Berlin:20250328T000000
DTEND;TZID=Europe/Berlin:20250328T210000
SUMMARY:Herren  2 - TSG  Bokel 2  (H)
URL:https://tv-apen.de/index.php/kalender/44-tischtennis/4802-herren-2-tsg-
 bokel-2-h
END:VEVENT
BEGIN:VEVENT
UID:20250328T200000CET-6837To4F2x@https://www.tv-apen.de/
DTSTAMP:20260419T122443Z
CATEGORIES:Tischtennis
DESCRIPTION:
DTSTART;TZID=Europe/Berlin:20250328T000000
DTEND;TZID=Europe/Berlin:20250328T210000
SUMMARY:Herren  4 - SSV Gristede  2  (H)
URL:https://tv-apen.de/index.php/kalender/44-tischtennis/4812-herren-4-ssv-
 gristede-2-h
END:VEVENT
BEGIN:VEVENT
UID:20250328T201500CET-5796pwc8Uj@https://www.tv-apen.de/
DTSTAMP:20260419T122443Z
CATEGORIES:Tischtennis
DESCRIPTION:
DTSTART;TZID=Europe/Berlin:20250328T000000
DTEND;TZID=Europe/Berlin:20250328T211500
SUMMARY:Herren  6  - SVE  Wiefelstede  3   (A)
URL:https://tv-apen.de/index.php/kalender/44-tischtennis/4794-herren-6-sve-
 wiefelstede-3-a
END:VEVENT
BEGIN:VEVENT
UID:20250402T200000CEST-7645mfAs3D@https://www.tv-apen.de/
DTSTAMP:20260419T122443Z
CATEGORIES:Tischtennis
DESCRIPTION:
DTSTART;TZID=Europe/Berlin:20250402T000000
DTEND;TZID=Europe/Berlin:20250402T210000
SUMMARY:Herren 1 - MTV Jever  5  (A)
URL:https://tv-apen.de/index.php/kalender/44-tischtennis/4784-herren-1-mtv-
 jever-5-a
END:VEVENT
BEGIN:VEVENT
UID:20250404T200000CEST-7213u6hapi@https://www.tv-apen.de/
DTSTAMP:20260419T122443Z
CATEGORIES:Tischtennis
DESCRIPTION:
DTSTART;TZID=Europe/Berlin:20250404T000000
DTEND;TZID=Europe/Berlin:20250404T210000
SUMMARY:Herren  3 - TT WST/Ekern  SG 10 (A)  in WST
URL:https://tv-apen.de/index.php/kalender/44-tischtennis/4826-herren-3-tt-w
 st-ekern-sg-10-a-in-wst
END:VEVENT
BEGIN:VEVENT
UID:20250410T201500CEST-6565Bze5uf@https://www.tv-apen.de/
DTSTAMP:20260419T122443Z
CATEGORIES:Tischtennis
DESCRIPTION:
DTSTART;TZID=Europe/Berlin:20250410T000000
DTEND;TZID=Europe/Berlin:20250410T211500
SUMMARY:Herren  2 - TuS Augustfehn  (A)
URL:https://tv-apen.de/index.php/kalender/44-tischtennis/4803-herren-2-tus-
 augustfehn-a
END:VEVENT
BEGIN:VEVENT
UID:20250902T200000CEST-2351iiUxHs@https://www.tv-apen.de/
DTSTAMP:20260419T122443Z
CATEGORIES:Tischtennis
DESCRIPTION:
DTSTART;TZID=Europe/Berlin:20250902T000000
DTEND;TZID=Europe/Berlin:20250902T210000
SUMMARY:Herren 5 - Herren 4 (H)
URL:https://tv-apen.de/index.php/kalender/44-tischtennis/4845-herre-5-herre
 n-6-h
END:VEVENT
BEGIN:VEVENT
UID:20250902T200000CEST-5388fBAHRx@https://www.tv-apen.de/
DTSTAMP:20260419T122443Z
CATEGORIES:Tischtennis
DESCRIPTION:
DTSTART;TZID=Europe/Berlin:20250902T000000
DTEND;TZID=Europe/Berlin:20250902T210000
SUMMARY:Herren 7 - Herren 6 (H)
URL:https://tv-apen.de/index.php/kalender/44-tischtennis/4862-herren-7-herr
 en-6-h
END:VEVENT
BEGIN:VEVENT
UID:20250904T201500CEST-9400RtVTOx@https://www.tv-apen.de/
DTSTAMP:20260419T122443Z
CATEGORIES:Tischtennis
DESCRIPTION:
DTSTART;TZID=Europe/Berlin:20250904T000000
DTEND;TZID=Europe/Berlin:20250904T211500
SUMMARY:Herren 2 - TuS Augustfehn 1  (A)
URL:https://tv-apen.de/index.php/kalender/44-tischtennis/4836-herren-2-tus-
 augustfehn-1-a
END:VEVENT
BEGIN:VEVENT
UID:20250909T200000CEST-7973jVi3Gk@https://www.tv-apen.de/
DTSTAMP:20260419T122443Z
CATEGORIES:Tischtennis
DESCRIPTION:
DTSTART;TZID=Europe/Berlin:20250909T000000
DTEND;TZID=Europe/Berlin:20250909T210000
SUMMARY:Herren 1 - Vareler TB 1 (H)
URL:https://tv-apen.de/index.php/kalender/44-tischtennis/4827-herren-1-vare
 ler-tb-1-h
END:VEVENT
BEGIN:VEVENT
UID:20250909T200000CEST-88523Kc8p9@https://www.tv-apen.de/
DTSTAMP:20260419T122443Z
CATEGORIES:Tischtennis
DESCRIPTION:
DTSTART;TZID=Europe/Berlin:20250909T200000
SUMMARY:Herren  3 - TuS  Ofen 1 (H)
URL:https://tv-apen.de/index.php/kalender/44-tischtennis/4853-herren-3-tus-
 ofen-1-h
END:VEVENT
BEGIN:VEVENT
UID:20250919T200000CEST-68667TjwRx@https://www.tv-apen.de/
DTSTAMP:20260419T122443Z
CATEGORIES:Tischtennis
DESCRIPTION:
DTSTART;TZID=Europe/Berlin:20250919T000000
DTEND;TZID=Europe/Berlin:20250919T210000
SUMMARY:Herren 3 - SSV Gristede 2 - (H)
URL:https://tv-apen.de/index.php/kalender/44-tischtennis/4854-herren-3-ssv-
 gristede-2-h
END:VEVENT
BEGIN:VEVENT
UID:20250919T201500CEST-7957iwFLf4@https://www.tv-apen.de/
DTSTAMP:20260419T122443Z
CATEGORIES:Tischtennis
DESCRIPTION:
DTSTART;TZID=Europe/Berlin:20250919T201500
SUMMARY:Herren 2 - SVE Wiefelstede 1 - (A)
URL:https://tv-apen.de/index.php/kalender/44-tischtennis/4837-herren-2-sve-
 wiefelstede-1-a
END:VEVENT
BEGIN:VEVENT
UID:20250923T200000CEST-0089OmUnE7@https://www.tv-apen.de/
DTSTAMP:20260419T122443Z
CATEGORIES:Tischtennis
DESCRIPTION:
DTSTART;TZID=Europe/Berlin:20250923T000000
DTEND;TZID=Europe/Berlin:20250923T210000
SUMMARY:Herren 7 - TuS Ocholt  4  (A)
URL:https://tv-apen.de/index.php/kalender/44-tischtennis/4863-herren-7-tus-
 ocholt-4-a
END:VEVENT
BEGIN:VEVENT
UID:20250923T200000CEST-6152nuzUIO@https://www.tv-apen.de/
DTSTAMP:20260419T122443Z
CATEGORIES:Tischtennis
DESCRIPTION:
DTSTART;TZID=Europe/Berlin:20250923T000000
DTEND;TZID=Europe/Berlin:20250923T210000
SUMMARY:Herren 6 - FC  Rastede  5 - (H)
URL:https://tv-apen.de/index.php/kalender/44-tischtennis/4878-herren-6-fc-r
 astede-5-h
END:VEVENT
BEGIN:VEVENT
UID:20250923T201500CEST-65752FM2sR@https://www.tv-apen.de/
DTSTAMP:20260419T122443Z
CATEGORIES:Tischtennis
DESCRIPTION:
DTSTART;TZID=Europe/Berlin:20250923T000000
DTEND;TZID=Europe/Berlin:20250923T211500
SUMMARY:Herren 2 - TSR Olympia Wilhelmshaven 1(H)
URL:https://tv-apen.de/index.php/kalender/44-tischtennis/4838-herren-2-tsr-
 olympia-wilhelmshaven-1-h
END:VEVENT
BEGIN:VEVENT
UID:20250926T200000CEST-7223GGOndA@https://www.tv-apen.de/
DTSTAMP:20260419T122443Z
CATEGORIES:Tischtennis
DESCRIPTION:
DTSTART;TZID=Europe/Berlin:20250926T200000
SUMMARY:Herren 5 - TSG Husbäke 2  (H)
URL:https://tv-apen.de/index.php/kalender/44-tischtennis/4846-herren-5-tsg-
 husbaeke-2-h
END:VEVENT
BEGIN:VEVENT
UID:20251001T200000CEST-9276VLAfIN@https://www.tv-apen.de/
DTSTAMP:20260419T122443Z
CATEGORIES:Tischtennis
DESCRIPTION:
DTSTART;TZID=Europe/Berlin:20251001T000000
DTEND;TZID=Europe/Berlin:20251001T210000
SUMMARY:Herren  4 - TSG  Husbäke 1 - (A)
URL:https://tv-apen.de/index.php/kalender/44-tischtennis/4870-herren-4-tsg-
 husbaeke-1-a
END:VEVENT
END:VCALENDAR
