BEGIN:VCALENDAR
VERSION:2.0
PRODID:-//https://tv-apen.de//NONSGML kigkonsult.se iCalcreator 2.23.20//
METHOD:PUBLISH
X-WR-CALNAME:JCal Pro Kalender
X-WR-CALDESC:Ihr Online-Terminkalender
X-WR-TIMEZONE:Europe/Berlin
BEGIN:VTIMEZONE
TZID:Europe/Berlin
BEGIN:STANDARD
DTSTART:20251026T030000
TZOFFSETFROM:+0200
TZOFFSETTO:+0100
RDATE:20261025T030000
TZNAME:CET
END:STANDARD
BEGIN:DAYLIGHT
DTSTART:20250330T020000
TZOFFSETFROM:+0100
TZOFFSETTO:+0200
RDATE:20260329T020000,20270328T020000
TZNAME:CEST
END:DAYLIGHT
END:VTIMEZONE
BEGIN:VEVENT
UID:20251002T200000CEST-5648zAnEh9@https://www.tv-apen.de/
DTSTAMP:20260419T122431Z
CATEGORIES:Tischtennis
DESCRIPTION:
DTSTART;TZID=Europe/Berlin:20251002T000000
DTEND;TZID=Europe/Berlin:20251002T210000
SUMMARY:Herren 6 - SVE Wiefelstede  3 - (A)
URL:https://tv-apen.de/index.php/kalender/44-tischtennis/4879-herren-6-sve-
 wiefelstede-3-a
END:VEVENT
BEGIN:VEVENT
UID:20251007T200000CEST-1274hevdzu@https://www.tv-apen.de/
DTSTAMP:20260419T122431Z
CATEGORIES:Tischtennis
DESCRIPTION:
DTSTART;TZID=Europe/Berlin:20251007T200000
SUMMARY:Herren  6 - TuS Ocholt  4 - (A)
URL:https://tv-apen.de/index.php/kalender/44-tischtennis/4880-herren-6-tus-
 ocholt-4-a
END:VEVENT
BEGIN:VEVENT
UID:20251010T201500CEST-4086ujgzUU@https://www.tv-apen.de/
DTSTAMP:20260419T122431Z
CATEGORIES:Tischtennis
DESCRIPTION:
DTSTART;TZID=Europe/Berlin:20251010T000000
DTEND;TZID=Europe/Berlin:20251010T223000
SUMMARY:Herren 1 - Wilhelmshavener SSV 1 (H)
URL:https://tv-apen.de/index.php/kalender/44-tischtennis/4828-herren-1-wilh
 elmshavener-ssv-1-h
END:VEVENT
BEGIN:VEVENT
UID:20251014T200000CEST-8890DtMEoP@https://www.tv-apen.de/
DTSTAMP:20260419T122431Z
CATEGORIES:Tischtennis
DESCRIPTION:
DTSTART;TZID=Europe/Berlin:20251014T201500
SUMMARY:Herren 4 - TuS  Ocholt  3  (A)
URL:https://tv-apen.de/index.php/kalender/44-tischtennis/4871-herren-4-tus-
 ocholt-3-a
END:VEVENT
BEGIN:VEVENT
UID:20251016T200000CEST-9254h1Ev4D@https://www.tv-apen.de/
DTSTAMP:20260419T122431Z
CATEGORIES:Tischtennis
DESCRIPTION:
DTSTART;TZID=Europe/Berlin:20251016T000000
DTEND;TZID=Europe/Berlin:20251016T210000
SUMMARY:Herren 6 - TSG Bokel 4 - (A)
URL:https://tv-apen.de/index.php/kalender/44-tischtennis/4881-herren-6-tsg-
 bokel-4-a
END:VEVENT
BEGIN:VEVENT
UID:20251021T200000CEST-9543M8Adnj@https://www.tv-apen.de/
DTSTAMP:20260419T122431Z
CATEGORIES:Tischtennis
DESCRIPTION:
DTSTART;TZID=Europe/Berlin:20251021T000000
DTEND;TZID=Europe/Berlin:20251021T210000
SUMMARY:Herren 7 - TSG  Bokel  4- (H)
URL:https://tv-apen.de/index.php/kalender/44-tischtennis/4864-herren-7-tsg-
 bokel-4-h
END:VEVENT
BEGIN:VEVENT
UID:20251024T200000CEST-4214Z9aRsg@https://www.tv-apen.de/
DTSTAMP:20260419T122431Z
CATEGORIES:Tischtennis
DESCRIPTION:
DTSTART;TZID=Europe/Berlin:20251024T200000
SUMMARY:Herren  7 - SSV Jeddeloh  4  - (H)
URL:https://tv-apen.de/index.php/kalender/44-tischtennis/4865-herren-7-ssv-
 jeddeloh-4-h
END:VEVENT
BEGIN:VEVENT
UID:20251027T201500CET-0876D8h3uU@https://www.tv-apen.de/
DTSTAMP:20260419T122431Z
CATEGORIES:Tischtennis
DESCRIPTION:
DTSTART;TZID=Europe/Berlin:20251027T000000
DTEND;TZID=Europe/Berlin:20251027T211500
SUMMARY:Herren 2 - Vareler TB  2 - (A)
URL:https://tv-apen.de/index.php/kalender/44-tischtennis/4839-herren-2-vare
 ler-tb-2-a
END:VEVENT
BEGIN:VEVENT
UID:20251028T200000CET-9524BEedmW@https://www.tv-apen.de/
DTSTAMP:20260419T122431Z
CATEGORIES:Tischtennis
DESCRIPTION:
DTSTART;TZID=Europe/Berlin:20251028T000000
DTEND;TZID=Europe/Berlin:20251028T210000
SUMMARY:Herren 5 -TuS Ocholt 2 - (A)
URL:https://tv-apen.de/index.php/kalender/44-tischtennis/4847-herren-5-tus-
 ocholt-2-a
END:VEVENT
BEGIN:VEVENT
UID:20251028T200000CET-6528Bz3bhl@https://www.tv-apen.de/
DTSTAMP:20260419T122431Z
CATEGORIES:Tischtennis
DESCRIPTION:
DTSTART;TZID=Europe/Berlin:20251028T200000
SUMMARY:Herren  3 -TTWST/Ekern SG 9 (A)  in Ekern
URL:https://tv-apen.de/index.php/kalender/44-tischtennis/4855-herren-3-ttws
 t-ekern-sg-9-a-in-ekern
END:VEVENT
BEGIN:VEVENT
UID:20251031T200000CET-1734pUPBIu@https://www.tv-apen.de/
DTSTAMP:20260419T122431Z
CATEGORIES:Tischtennis
DESCRIPTION:
DTSTART;TZID=Europe/Berlin:20251031T000000
DTEND;TZID=Europe/Berlin:20251031T210000
SUMMARY:Herren 1 - SSV Jeddeloh 1  (A)
URL:https://tv-apen.de/index.php/kalender/44-tischtennis/4829-herren-1-ssv-
 jeddeloh-1-a
END:VEVENT
BEGIN:VEVENT
UID:20251031T200000CET-4041O0cZxs@https://www.tv-apen.de/
DTSTAMP:20260419T122431Z
CATEGORIES:Tischtennis
DESCRIPTION:
DTSTART;TZID=Europe/Berlin:20251031T000000
DTEND;TZID=Europe/Berlin:20251031T210000
SUMMARY:Herren 3 - TSG Bokel 3  (H)
URL:https://tv-apen.de/index.php/kalender/44-tischtennis/4856-herren-3-tsg-
 bokel-3-h
END:VEVENT
BEGIN:VEVENT
UID:20251101T140000CET-7105jIwJdM@https://www.tv-apen.de/
DTSTAMP:20260419T122431Z
CATEGORIES:Tischtennis
DESCRIPTION:
DTSTART;TZID=Europe/Berlin:20251101T000000
DTEND;TZID=Europe/Berlin:20251101T150000
SUMMARY:Herren 1 - SG Clevernts-Sandel 1 (H)
URL:https://tv-apen.de/index.php/kalender/44-tischtennis/4830-herren-1-sg-c
 levernts-sandel-1-h
END:VEVENT
BEGIN:VEVENT
UID:20251101T150000CET-5988Ifuj4e@https://www.tv-apen.de/
DTSTAMP:20260419T122431Z
CATEGORIES:Tischtennis
DESCRIPTION:
DTSTART;TZID=Europe/Berlin:20251101T150000
SUMMARY:Herren 2 - TuS Sande  3  (H)
URL:https://tv-apen.de/index.php/kalender/44-tischtennis/4840-herren-2-tus-
 sande-3-h
END:VEVENT
BEGIN:VEVENT
UID:20251103T193000CET-6143upFhv4@https://www.tv-apen.de/
DTSTAMP:20260419T122431Z
CATEGORIES:Tischtennis
DESCRIPTION:
DTSTART;TZID=Europe/Berlin:20251103T193000
SUMMARY:Herren 5 Wittenberge 1 - (A)
URL:https://tv-apen.de/index.php/kalender/44-tischtennis/4848-herren-5-witt
 enberge-1-a
END:VEVENT
BEGIN:VEVENT
UID:20251104T200000CET-8436vU0DVi@https://www.tv-apen.de/
DTSTAMP:20260419T122431Z
CATEGORIES:Tischtennis
DESCRIPTION:
DTSTART;TZID=Europe/Berlin:20251104T200000
SUMMARY:Herren 3  -  FC  Rastede  4  (H)
URL:https://tv-apen.de/index.php/kalender/44-tischtennis/4857-herren-3-fc-r
 astede-4-h
END:VEVENT
BEGIN:VEVENT
UID:20251104T200000CET-6737BU6JUK@https://www.tv-apen.de/
DTSTAMP:20260419T122431Z
CATEGORIES:Tischtennis
DESCRIPTION:
DTSTART;TZID=Europe/Berlin:20251104T000000
DTEND;TZID=Europe/Berlin:20251104T210000
SUMMARY:Herren 4 - WST/Ekern SG 10 (A) in WST
URL:https://tv-apen.de/index.php/kalender/44-tischtennis/4872-herren-4-ttws
 t-ekern-sg-10-a-in-wst
END:VEVENT
BEGIN:VEVENT
UID:20251104T200000CET-00121tPiH7@https://www.tv-apen.de/
DTSTAMP:20260419T122431Z
CATEGORIES:Tischtennis
DESCRIPTION:
DTSTART;TZID=Europe/Berlin:20251104T000000
DTEND;TZID=Europe/Berlin:20251104T210000
SUMMARY:Herren 6 - SSV Gristede 3 -(H)
URL:https://tv-apen.de/index.php/kalender/44-tischtennis/4882-herren-6-ssv-
 gristede-3-h
END:VEVENT
BEGIN:VEVENT
UID:20251107T200000CET-5717SUWZi1@https://www.tv-apen.de/
DTSTAMP:20260419T122431Z
CATEGORIES:Tischtennis
DESCRIPTION:
DTSTART;TZID=Europe/Berlin:20251107T000000
DTEND;TZID=Europe/Berlin:20251107T210000
SUMMARY:Herren 1 - TSG Bokel 1 (H)
URL:https://tv-apen.de/index.php/kalender/44-tischtennis/4831-herren-1-tsg-
 bokel-1-h
END:VEVENT
BEGIN:VEVENT
UID:20251107T200000CET-0157ddc9Ng@https://www.tv-apen.de/
DTSTAMP:20260419T122431Z
CATEGORIES:Tischtennis
DESCRIPTION:
DTSTART;TZID=Europe/Berlin:20251107T000000
DTEND;TZID=Europe/Berlin:20251107T210000
SUMMARY:Herren 2 -TT WST/Ekern SG 3 (H)
URL:https://tv-apen.de/index.php/kalender/44-tischtennis/4841-herren-2-tt-w
 st-ekern-sg-3-h
END:VEVENT
END:VCALENDAR
