BEGIN:VCALENDAR
VERSION:2.0
PRODID:-//https://tv-apen.de//NONSGML kigkonsult.se iCalcreator 2.23.20//
METHOD:PUBLISH
X-WR-CALNAME:JCal Pro Kalender
X-WR-CALDESC:Ihr Online-Terminkalender
X-WR-TIMEZONE:Europe/Berlin
BEGIN:VTIMEZONE
TZID:Europe/Berlin
BEGIN:STANDARD
DTSTART:20251026T030000
TZOFFSETFROM:+0200
TZOFFSETTO:+0100
RDATE:20261025T030000
TZNAME:CET
END:STANDARD
BEGIN:DAYLIGHT
DTSTART:20260329T020000
TZOFFSETFROM:+0100
TZOFFSETTO:+0200
RDATE:20270328T020000
TZNAME:CEST
END:DAYLIGHT
END:VTIMEZONE
BEGIN:VEVENT
UID:20251107T200000CET-7581OXGRsl@https://www.tv-apen.de/
DTSTAMP:20260419T122614Z
CATEGORIES:Tischtennis
DESCRIPTION:
DTSTART;TZID=Europe/Berlin:20251107T000000
DTEND;TZID=Europe/Berlin:20251107T210000
SUMMARY:Herren  5 - TT WST/Ekern SG  10 (H)
URL:https://tv-apen.de/index.php/kalender/44-tischtennis/4849-herren-5-tt-w
 st-ekern-sg-10-h
END:VEVENT
BEGIN:VEVENT
UID:20251107T200000CET-2983UwfV7K@https://www.tv-apen.de/
DTSTAMP:20260419T122614Z
CATEGORIES:Tischtennis
DESCRIPTION:
DTSTART;TZID=Europe/Berlin:20251107T000000
DTEND;TZID=Europe/Berlin:20251107T210000
SUMMARY:Herren  7 - SSV Gristede 3 (H)
URL:https://tv-apen.de/index.php/kalender/44-tischtennis/4866-herren-7-ssv-
 gristede-3-h
END:VEVENT
BEGIN:VEVENT
UID:20251108T150000CET-6787d53oZU@https://www.tv-apen.de/
DTSTAMP:20260419T122614Z
CATEGORIES:Tischtennis
DESCRIPTION:
DTSTART;TZID=Europe/Berlin:20251108T000000
DTEND;TZID=Europe/Berlin:20251108T160000
SUMMARY:Herren 2 - TT WST/Ekern SG 4  (A) in WST
URL:https://tv-apen.de/index.php/kalender/44-tischtennis/4842-herren-2-tt-w
 st-ekern-sg-4-a-in-wst
END:VEVENT
BEGIN:VEVENT
UID:20251111T200000CET-8148UjSZ6R@https://www.tv-apen.de/
DTSTAMP:20260419T122614Z
CATEGORIES:Tischtennis
DESCRIPTION:
DTSTART;TZID=Europe/Berlin:20251111T000000
DTEND;TZID=Europe/Berlin:20251111T210000
SUMMARY:Herren 1 - TuS Ocholt 1 (H)
URL:https://tv-apen.de/index.php/kalender/44-tischtennis/4832-herren-1-tus-
 ocholt-1-h
END:VEVENT
BEGIN:VEVENT
UID:20251111T200000CET-9595UwlvSN@https://www.tv-apen.de/
DTSTAMP:20260419T122614Z
CATEGORIES:Tischtennis
DESCRIPTION:
DTSTART;TZID=Europe/Berlin:20251111T000000
DTEND;TZID=Europe/Berlin:20251111T210000
SUMMARY:Herren 7 - SVE Wiefelstede  3 - (H)
URL:https://tv-apen.de/index.php/kalender/44-tischtennis/4867-herren-7-sve-
 wiefelstede-3-h
END:VEVENT
BEGIN:VEVENT
UID:20251113T200000CET-81400a8MH8@https://www.tv-apen.de/
DTSTAMP:20260419T122614Z
CATEGORIES:Tischtennis
DESCRIPTION:
DTSTART;TZID=Europe/Berlin:20251113T000000
DTEND;TZID=Europe/Berlin:20251113T210000
SUMMARY:Herren 6 - SSV Jeddeloh  4 . (A)
URL:https://tv-apen.de/index.php/kalender/44-tischtennis/4883-herren-6-ssv-
 jeddeloh-4-a
END:VEVENT
BEGIN:VEVENT
UID:20251114T201500CET-8712TPFtdm@https://www.tv-apen.de/
DTSTAMP:20260419T122614Z
CATEGORIES:Tischtennis
DESCRIPTION:
DTSTART;TZID=Europe/Berlin:20251114T000000
DTEND;TZID=Europe/Berlin:20251114T211500
SUMMARY:Herren 2 - SV Grün-Gelb Roffhausen 1  (A)
URL:https://tv-apen.de/index.php/kalender/44-tischtennis/4843-herren-2-sv-g
 ruen-gelb-roffhausen-1-a
END:VEVENT
BEGIN:VEVENT
UID:20251114T201500CET-1536tr3rWW@https://www.tv-apen.de/
DTSTAMP:20260419T122614Z
CATEGORIES:Tischtennis
DESCRIPTION:
DTSTART;TZID=Europe/Berlin:20251114T201500
SUMMARY:Herren 5 - TuS Ocholt 3  (A)
URL:https://tv-apen.de/index.php/kalender/44-tischtennis/4850-herren-5-tus-
 ocholt-3-a
END:VEVENT
BEGIN:VEVENT
UID:20251118T200000CET-51123vFPOS@https://www.tv-apen.de/
DTSTAMP:20260419T122614Z
CATEGORIES:Tischtennis
DESCRIPTION:
DTSTART;TZID=Europe/Berlin:20251118T000000
DTEND;TZID=Europe/Berlin:20251118T210000
SUMMARY: Herren  7 - TV Metjendorf  1 - (H)
URL:https://tv-apen.de/index.php/kalender/44-tischtennis/4868-herren-7-tv-m
 etjendorf-1-h
END:VEVENT
BEGIN:VEVENT
UID:20251120T200000CET-65228MVufA@https://www.tv-apen.de/
DTSTAMP:20260419T122614Z
CATEGORIES:Tischtennis
DESCRIPTION:
DTSTART;TZID=Europe/Berlin:20251120T000000
DTEND;TZID=Europe/Berlin:20251120T210000
SUMMARY:Herren 3 - TV Aschhausen 1  (A)
URL:https://tv-apen.de/index.php/kalender/44-tischtennis/4858-herren-3-tv-a
 schhausen-1-a
END:VEVENT
BEGIN:VEVENT
UID:20251121T200000CET-240230bRDh@https://www.tv-apen.de/
DTSTAMP:20260419T122614Z
CATEGORIES:Tischtennis
DESCRIPTION:
DTSTART;TZID=Europe/Berlin:20251121T000000
DTEND;TZID=Europe/Berlin:20251121T210000
SUMMARY:Herren 1 - FC  Rastede 1 (H)
URL:https://tv-apen.de/index.php/kalender/44-tischtennis/4833-herren-1-fc-r
 astede-1-h
END:VEVENT
BEGIN:VEVENT
UID:20251121T200000CET-1664MDvNUU@https://www.tv-apen.de/
DTSTAMP:20260419T122614Z
CATEGORIES:Tischtennis
DESCRIPTION:
DTSTART;TZID=Europe/Berlin:20251121T000000
DTEND;TZID=Europe/Berlin:20251121T210000
SUMMARY:Herren 2 - FC Rastede 2 (A)
URL:https://tv-apen.de/index.php/kalender/44-tischtennis/4844-herren-2-fc-r
 astede-2-a
END:VEVENT
BEGIN:VEVENT
UID:20251121T200000CET-1749VUONUj@https://www.tv-apen.de/
DTSTAMP:20260419T122614Z
CATEGORIES:Tischtennis
DESCRIPTION:
DTSTART;TZID=Europe/Berlin:20251121T000000
DTEND;TZID=Europe/Berlin:20251121T210000
SUMMARY:Herren 5 - VfL Edewecht 3 - (H)
URL:https://tv-apen.de/index.php/kalender/44-tischtennis/4851-herren-5-vfl-
 edewecht-3-h
END:VEVENT
BEGIN:VEVENT
UID:20251121T200000CET-8077MnUK7n@https://www.tv-apen.de/
DTSTAMP:20260419T122614Z
CATEGORIES:Tischtennis
DESCRIPTION:
DTSTART;TZID=Europe/Berlin:20251121T200000
SUMMARY:Herren 4 - SSV Wittenberge 1 (H)
URL:https://tv-apen.de/index.php/kalender/44-tischtennis/4873-herren-4-ssv-
 wittenberge-1-h
END:VEVENT
BEGIN:VEVENT
UID:20251125T200000CET-7270IB6dCW@https://www.tv-apen.de/
DTSTAMP:20260419T122614Z
CATEGORIES:Tischtennis
DESCRIPTION:
DTSTART;TZID=Europe/Berlin:20251125T000000
DTEND;TZID=Europe/Berlin:20251125T210000
SUMMARY:Herren 4 - TuS Ocholt  2 - (A)
URL:https://tv-apen.de/index.php/kalender/44-tischtennis/4874-herren-4-tus-
 ocholt-2-a
END:VEVENT
BEGIN:VEVENT
UID:20251127T200000CET-4515kHozSn@https://www.tv-apen.de/
DTSTAMP:20260419T122614Z
CATEGORIES:Tischtennis
DESCRIPTION:
DTSTART;TZID=Europe/Berlin:20251127T000000
DTEND;TZID=Europe/Berlin:20251127T210000
SUMMARY:Herren  3 - SSV Jeddeloh 3  (A)
URL:https://tv-apen.de/index.php/kalender/44-tischtennis/4859-herren-3-ssv-
 jeddeloh-3-a
END:VEVENT
BEGIN:VEVENT
UID:20251129T153000CET-5452e4dIvN@https://www.tv-apen.de/
DTSTAMP:20260419T122614Z
CATEGORIES:Tischtennis
DESCRIPTION:
DTSTART;TZID=Europe/Berlin:20251129T000000
DTEND;TZID=Europe/Berlin:20251129T173000
SUMMARY:Herren 1 - MTV Jever 5 (A)
URL:https://tv-apen.de/index.php/kalender/44-tischtennis/4834-herren-1-mtv-
 jever-5-a
END:VEVENT
BEGIN:VEVENT
UID:20251201T200000CET-3497tuLADu@https://www.tv-apen.de/
DTSTAMP:20260419T122614Z
CATEGORIES:Tischtennis
DESCRIPTION:
DTSTART;TZID=Europe/Berlin:20251201T000000
DTEND;TZID=Europe/Berlin:20251201T210000
SUMMARY:Herren 5 - SVE Wiefelstede  2 (A)
URL:https://tv-apen.de/index.php/kalender/44-tischtennis/4852-herren-5-sve-
 wiefelstede-2-a
END:VEVENT
BEGIN:VEVENT
UID:20251202T102000CET-7337jxV95k@https://www.tv-apen.de/
DTSTAMP:20260419T122614Z
CATEGORIES:Tischtennis
DESCRIPTION:
DTSTART;TZID=Europe/Berlin:20251202T193000
SUMMARY:Herren  3 - TuS  Rostrup 1 (A)
URL:https://tv-apen.de/index.php/kalender/44-tischtennis/4860-herren-3-tus-
 rostrup-1-a
END:VEVENT
BEGIN:VEVENT
UID:20251202T200000CET-5271fMrHHw@https://www.tv-apen.de/
DTSTAMP:20260419T122614Z
CATEGORIES:Tischtennis
DESCRIPTION:
DTSTART;TZID=Europe/Berlin:20251202T000000
DTEND;TZID=Europe/Berlin:20251202T210000
SUMMARY:Herren  7 - FC Rastede 5 - (H)
URL:https://tv-apen.de/index.php/kalender/44-tischtennis/4869-herren-7-fc-r
 astede-5-h
END:VEVENT
END:VCALENDAR
