BEGIN:VCALENDAR
VERSION:2.0
PRODID:-//https://tv-apen.de//NONSGML kigkonsult.se iCalcreator 2.23.20//
METHOD:PUBLISH
X-WR-CALNAME:JCal Pro Kalender
X-WR-CALDESC:Ihr Online-Terminkalender
X-WR-TIMEZONE:Europe/Berlin
BEGIN:VTIMEZONE
TZID:Europe/Berlin
BEGIN:STANDARD
DTSTART:20251026T030000
TZOFFSETFROM:+0200
TZOFFSETTO:+0100
RDATE:20261025T030000
TZNAME:CET
END:STANDARD
BEGIN:DAYLIGHT
DTSTART:20260329T020000
TZOFFSETFROM:+0100
TZOFFSETTO:+0200
RDATE:20270328T020000
TZNAME:CEST
END:DAYLIGHT
END:VTIMEZONE
BEGIN:VEVENT
UID:20251202T200000CET-7957XWwBu5@https://www.tv-apen.de/
DTSTAMP:20260419T122618Z
CATEGORIES:Tischtennis
DESCRIPTION:
DTSTART;TZID=Europe/Berlin:20251202T000000
DTEND;TZID=Europe/Berlin:20251202T210000
SUMMARY:Herren  4 - VfL Edewecht 3 - (H)
URL:https://tv-apen.de/index.php/kalender/44-tischtennis/4875-herren-4-vfl-
 edewecht-3-h
END:VEVENT
BEGIN:VEVENT
UID:20251202T200000CET-3233SdoozA@https://www.tv-apen.de/
DTSTAMP:20260419T122618Z
CATEGORIES:Tischtennis
DESCRIPTION:
DTSTART;TZID=Europe/Berlin:20251202T000000
DTEND;TZID=Europe/Berlin:20251202T210000
SUMMARY:Herren  6 - TV Metjendorf 1 - (H)
URL:https://tv-apen.de/index.php/kalender/44-tischtennis/4884-herren-6-tv-m
 etjendorf-1-h
END:VEVENT
BEGIN:VEVENT
UID:20251205T200000CET-6128j8ZgSt@https://www.tv-apen.de/
DTSTAMP:20260419T122618Z
CATEGORIES:Tischtennis
DESCRIPTION:
DTSTART;TZID=Europe/Berlin:20251205T000000
DTEND;TZID=Europe/Berlin:20251205T210000
SUMMARY:Herren 1 - TuS Sande 2 (H)
URL:https://tv-apen.de/index.php/kalender/44-tischtennis/4835-herren-1-tus-
 sande-2-h
END:VEVENT
BEGIN:VEVENT
UID:20251205T200000CET-0226Vugucr@https://www.tv-apen.de/
DTSTAMP:20260419T122618Z
CATEGORIES:Tischtennis
DESCRIPTION:
DTSTART;TZID=Europe/Berlin:20251205T000000
DTEND;TZID=Europe/Berlin:20251205T210000
SUMMARY:Herren  3 - TuS Augustfehn 2 (H)
URL:https://tv-apen.de/index.php/kalender/44-tischtennis/4861-herren-3-tus-
 augustfehn-2-h
END:VEVENT
BEGIN:VEVENT
UID:20251209T200000CET-3883Twtodo@https://www.tv-apen.de/
DTSTAMP:20260419T122618Z
CATEGORIES:Tischtennis
DESCRIPTION:
DTSTART;TZID=Europe/Berlin:20251209T000000
DTEND;TZID=Europe/Berlin:20251209T210000
SUMMARY:Herren  4 - SVE Wiefelstede  2 -(H)
URL:https://tv-apen.de/index.php/kalender/44-tischtennis/4876-herren-4-sve-
 wiefelstede-2-h
END:VEVENT
BEGIN:VEVENT
UID:20260113T200000CET-0286pPJouZ@https://www.tv-apen.de/
DTSTAMP:20260419T122618Z
CATEGORIES:Tischtennis
DESCRIPTION:
DTSTART;TZID=Europe/Berlin:20260113T000000
DTEND;TZID=Europe/Berlin:20260113T210000
SUMMARY:Herren  2 - Vareler TB  2  - (H)  - 
URL:https://tv-apen.de/index.php/kalender/44-tischtennis/4902-herren-2-vare
 ler-tb-2-h
END:VEVENT
BEGIN:VEVENT
UID:20260116T162000CET-3083SoXxtG@https://www.tv-apen.de/
DTSTAMP:20260419T122618Z
CATEGORIES:Tischtennis
DESCRIPTION:
DTSTART;TZID=Europe/Berlin:20260116T000000
DTEND;TZID=Europe/Berlin:20260116T210000
SUMMARY:Herren  4 - Herren  5   - (H)
URL:https://tv-apen.de/index.php/kalender/44-tischtennis/4885-herren-4-herr
 en-5-h
END:VEVENT
BEGIN:VEVENT
UID:20260116T200000CET-2323pJBKvj@https://www.tv-apen.de/
DTSTAMP:20260419T122618Z
CATEGORIES:Tischtennis
DESCRIPTION:
DTSTART;TZID=Europe/Berlin:20260116T000000
DTEND;TZID=Europe/Berlin:20260116T210000
SUMMARY:Herren  3 - TSG  Bokel  3 - (A)
URL:https://tv-apen.de/index.php/kalender/44-tischtennis/4921-herren-3-tsg-
 bokel-3-a
END:VEVENT
BEGIN:VEVENT
UID:20260116T201500CET-9063FFbXbU@https://www.tv-apen.de/
DTSTAMP:20260419T122618Z
CATEGORIES:Tischtennis
DESCRIPTION:
DTSTART;TZID=Europe/Berlin:20260116T000000
DTEND;TZID=Europe/Berlin:20260116T211500
SUMMARY:Herren  1 - FC Rastede  - (A)
URL:https://tv-apen.de/index.php/kalender/44-tischtennis/4893-herren-1-fc-r
 astede-a
END:VEVENT
BEGIN:VEVENT
UID:20260123T200000CET-9001NBVsTl@https://www.tv-apen.de/
DTSTAMP:20260419T122618Z
CATEGORIES:Tischtennis
DESCRIPTION:
DTSTART;TZID=Europe/Berlin:20260123T000000
DTEND;TZID=Europe/Berlin:20260123T210000
SUMMARY:Herren  5 - WST/Ekern SG 10 - (A)
URL:https://tv-apen.de/index.php/kalender/44-tischtennis/4886-herren-5-wst-
 ekern-sg-10-a
END:VEVENT
BEGIN:VEVENT
UID:20260123T200000CET-6857XKZ4fz@https://www.tv-apen.de/
DTSTAMP:20260419T122618Z
CATEGORIES:Tischtennis
DESCRIPTION:
DTSTART;TZID=Europe/Berlin:20260123T000000
DTEND;TZID=Europe/Berlin:20260123T210000
SUMMARY:Herren  7 - Herren  6 - (H)
URL:https://tv-apen.de/index.php/kalender/44-tischtennis/4914-herren-7-herr
 en-6-h
END:VEVENT
BEGIN:VEVENT
UID:20260123T200000CET-7907VU7Hjf@https://www.tv-apen.de/
DTSTAMP:20260419T122618Z
CATEGORIES:Tischtennis
DESCRIPTION:
DTSTART;TZID=Europe/Berlin:20260123T000000
DTEND;TZID=Europe/Berlin:20260123T210000
SUMMARY:Herren  3 - TT WST/Ekern SG 9   -(H)
URL:https://tv-apen.de/index.php/kalender/44-tischtennis/4922-herren-3-tt-w
 st-ekern-sg-9-h
END:VEVENT
BEGIN:VEVENT
UID:20260123T200000CET-5819fLzuuz@https://www.tv-apen.de/
DTSTAMP:20260419T122618Z
CATEGORIES:Tischtennis
DESCRIPTION:
DTSTART;TZID=Europe/Berlin:20260123T000000
DTEND;TZID=Europe/Berlin:20260123T210000
SUMMARY:Heeren  6 - Herren  7 - (A)
URL:https://tv-apen.de/index.php/kalender/44-tischtennis/4937-heeren-6-herr
 en-7-a
END:VEVENT
BEGIN:VEVENT
UID:20260126T200000CET-3968WUU561@https://www.tv-apen.de/
DTSTAMP:20260419T122618Z
CATEGORIES:Tischtennis
DESCRIPTION:
DTSTART;TZID=Europe/Berlin:20260126T200000
SUMMARY:Herren  6 - SVE  Wiefelstede  3 - (A)
URL:https://tv-apen.de/index.php/kalender/44-tischtennis/4938-herren-6-sve-
 wiefelstede-3-a
END:VEVENT
BEGIN:VEVENT
UID:20260130T202000CET-4569uMkILH@https://www.tv-apen.de/
DTSTAMP:20260419T122618Z
CATEGORIES:Tischtennis
DESCRIPTION:
DTSTART;TZID=Europe/Berlin:20260130T000000
DTEND;TZID=Europe/Berlin:20260130T210000
SUMMARY:Herren  5 - Ocholt  3  -  ( H)
URL:https://tv-apen.de/index.php/kalender/44-tischtennis/4887-herren-5-ocho
 lt-3-h
END:VEVENT
BEGIN:VEVENT
UID:20260130T200000CET-3830J5i8PW@https://www.tv-apen.de/
DTSTAMP:20260419T122618Z
CATEGORIES:Tischtennis
DESCRIPTION:
DTSTART;TZID=Europe/Berlin:20260130T000000
DTEND;TZID=Europe/Berlin:20260130T210000
SUMMARY:Herren 1 - MTV Jever 5  - (H)
URL:https://tv-apen.de/index.php/kalender/44-tischtennis/4894-herren-1-mtv-
 jever-5-h
END:VEVENT
BEGIN:VEVENT
UID:20260130T200000CET-8619o39u4M@https://www.tv-apen.de/
DTSTAMP:20260419T122618Z
CATEGORIES:Tischtennis
DESCRIPTION:
DTSTART;TZID=Europe/Berlin:20260130T000000
DTEND;TZID=Europe/Berlin:20260130T210000
SUMMARY:Herren  3 - TuS  Rostrup  -  (H)
URL:https://tv-apen.de/index.php/kalender/44-tischtennis/4923-herren-3-tus-
 rostrup-h
END:VEVENT
BEGIN:VEVENT
UID:20260203T200000CET-5353RuVAR6@https://www.tv-apen.de/
DTSTAMP:20260419T122618Z
CATEGORIES:Tischtennis
DESCRIPTION:
DTSTART;TZID=Europe/Berlin:20260203T000000
DTEND;TZID=Europe/Berlin:20260203T210000
SUMMARY:Herren  1 - TuS  Ocholt   ( A)
URL:https://tv-apen.de/index.php/kalender/44-tischtennis/4895-herren-1-tus-
 ocholt-a
END:VEVENT
BEGIN:VEVENT
UID:20260203T200000CET-6358KaWS7o@https://www.tv-apen.de/
DTSTAMP:20260419T122618Z
CATEGORIES:Tischtennis
DESCRIPTION:
DTSTART;TZID=Europe/Berlin:20260203T000000
DTEND;TZID=Europe/Berlin:20260203T210000
SUMMARY:Herren  3 - SSV  Gristede  2 - (A)
URL:https://tv-apen.de/index.php/kalender/44-tischtennis/4924-herren-3-ssv-
 gristede-2-a
END:VEVENT
BEGIN:VEVENT
UID:20260205T200000CET-1659ICjxIM@https://www.tv-apen.de/
DTSTAMP:20260419T122618Z
CATEGORIES:Tischtennis
DESCRIPTION:
DTSTART;TZID=Europe/Berlin:20260205T000000
DTEND;TZID=Europe/Berlin:20260205T210000
SUMMARY:Herren  7 - TSG Bokel  4  -   (A)
URL:https://tv-apen.de/index.php/kalender/44-tischtennis/4915-herren-7-tsg-
 bokel-4-a
END:VEVENT
END:VCALENDAR
