BEGIN:VCALENDAR
VERSION:2.0
PRODID:-//https://tv-apen.de//NONSGML kigkonsult.se iCalcreator 2.23.20//
METHOD:PUBLISH
X-WR-CALNAME:JCal Pro Kalender
X-WR-CALDESC:Ihr Online-Terminkalender
X-WR-TIMEZONE:Europe/Berlin
BEGIN:VTIMEZONE
TZID:Europe/Berlin
BEGIN:STANDARD
DTSTART:20251026T030000
TZOFFSETFROM:+0200
TZOFFSETTO:+0100
RDATE:20261025T030000
TZNAME:CET
END:STANDARD
BEGIN:DAYLIGHT
DTSTART:20260329T020000
TZOFFSETFROM:+0100
TZOFFSETTO:+0200
RDATE:20270328T020000
TZNAME:CEST
END:DAYLIGHT
END:VTIMEZONE
BEGIN:VEVENT
UID:20260206T200000CET-1604XuDI4u@https://www.tv-apen.de/
DTSTAMP:20260419T122556Z
CATEGORIES:Tischtennis
DESCRIPTION:
DTSTART;TZID=Europe/Berlin:20260206T000000
DTEND;TZID=Europe/Berlin:20260206T210000
SUMMARY:Herren  5 - Ocholt  2  - (H)
URL:https://tv-apen.de/index.php/kalender/44-tischtennis/4888-herren-5-ocho
 lt-2-h
END:VEVENT
BEGIN:VEVENT
UID:20260211T200000CET-0560iWGKKX@https://www.tv-apen.de/
DTSTAMP:20260419T122556Z
CATEGORIES:Tischtennis
DESCRIPTION:
DTSTART;TZID=Europe/Berlin:20260211T000000
DTEND;TZID=Europe/Berlin:20260211T210000
SUMMARY:Herren  5 - Husbäke  2  - (A)
URL:https://tv-apen.de/index.php/kalender/44-tischtennis/4889-herren-5-husb
 aeke-2-a
END:VEVENT
BEGIN:VEVENT
UID:20260213T200000CET-07223P3NaS@https://www.tv-apen.de/
DTSTAMP:20260419T122556Z
CATEGORIES:Tischtennis
DESCRIPTION:
DTSTART;TZID=Europe/Berlin:20260213T000000
DTEND;TZID=Europe/Berlin:20260213T210000
SUMMARY:Herren  1 - TSG  Bokel - (A)
URL:https://tv-apen.de/index.php/kalender/44-tischtennis/4896-herren-1-tsg-
 bokel-a
END:VEVENT
BEGIN:VEVENT
UID:20260213T200000CET-4296sUWVF6@https://www.tv-apen.de/
DTSTAMP:20260419T122556Z
CATEGORIES:Tischtennis
DESCRIPTION:
DTSTART;TZID=Europe/Berlin:20260213T000000
DTEND;TZID=Europe/Berlin:20260213T210000
SUMMARY:Herren  2 - SVE Wiefelstede   -(H)
URL:https://tv-apen.de/index.php/kalender/44-tischtennis/4903-herren-2-sve-
 wiefelstede-h
END:VEVENT
BEGIN:VEVENT
UID:20260216T200000CET-1745Wh5JMv@https://www.tv-apen.de/
DTSTAMP:20260419T122556Z
CATEGORIES:Tischtennis
DESCRIPTION:
DTSTART;TZID=Europe/Berlin:20260216T000000
DTEND;TZID=Europe/Berlin:20260216T210000
SUMMARY:Herren 5 - Edewecht  3 - (A)
URL:https://tv-apen.de/index.php/kalender/44-tischtennis/4890-herren-5-edew
 echt-3-a
END:VEVENT
BEGIN:VEVENT
UID:20260217T200000CET-4801t5rlUu@https://www.tv-apen.de/
DTSTAMP:20260419T122556Z
CATEGORIES:Tischtennis
DESCRIPTION:
DTSTART;TZID=Europe/Berlin:20260217T000000
DTEND;TZID=Europe/Berlin:20260217T210000
SUMMARY:Herren  1 - SSV Jeddeloh  - (H)
URL:https://tv-apen.de/index.php/kalender/44-tischtennis/4897-herren-1-ssv-
 jeddeloh-h
END:VEVENT
BEGIN:VEVENT
UID:20260218T200000CET-11685wr5PC@https://www.tv-apen.de/
DTSTAMP:20260419T122556Z
CATEGORIES:Tischtennis
DESCRIPTION:
DTSTART;TZID=Europe/Berlin:20260218T200000
SUMMARY:Herren  6 - FC Rastede  5 - (A)
URL:https://tv-apen.de/index.php/kalender/44-tischtennis/4939-herren-6-fc-r
 astede-5-a
END:VEVENT
BEGIN:VEVENT
UID:20260219T200000CET-3935RDVVvU@https://www.tv-apen.de/
DTSTAMP:20260419T122556Z
CATEGORIES:Tischtennis
DESCRIPTION:
DTSTART;TZID=Europe/Berlin:20260219T000000
DTEND;TZID=Europe/Berlin:20260219T210000
SUMMARY:Herren  7 - SSV Jeddeloh  4 - (A)
URL:https://tv-apen.de/index.php/kalender/44-tischtennis/4916-herren-7-ssv-
 jeddeloh-4-a
END:VEVENT
BEGIN:VEVENT
UID:20260220T200000CET-4085R80pJ7@https://www.tv-apen.de/
DTSTAMP:20260419T122556Z
CATEGORIES:Tischtennis
DESCRIPTION:
DTSTART;TZID=Europe/Berlin:20260220T000000
DTEND;TZID=Europe/Berlin:20260220T210000
SUMMARY:Herren  6 - SSV  Jeddeloh  4 - (H)
URL:https://tv-apen.de/index.php/kalender/44-tischtennis/4940-herren-6-ssv-
 jeddeloh-4-h
END:VEVENT
BEGIN:VEVENT
UID:20260220T201500CET-1888p8BRH0@https://www.tv-apen.de/
DTSTAMP:20260419T122556Z
CATEGORIES:Tischtennis
DESCRIPTION:
DTSTART;TZID=Europe/Berlin:20260220T000000
DTEND;TZID=Europe/Berlin:20260220T211500
SUMMARY:Herren  1 - Vareler  TB - (A)
URL:https://tv-apen.de/index.php/kalender/44-tischtennis/4898-herren-1-vare
 ler-tb-a
END:VEVENT
BEGIN:VEVENT
UID:20260223T200000CET-0736RCKKKw@https://www.tv-apen.de/
DTSTAMP:20260419T122556Z
CATEGORIES:Tischtennis
DESCRIPTION:
DTSTART;TZID=Europe/Berlin:20260223T000000
DTEND;TZID=Europe/Berlin:20260223T210000
SUMMARY:Herren  4  - VfL Edewecht  3 - (A)
URL:https://tv-apen.de/index.php/kalender/44-tischtennis/4930-herren-4-vfl-
 edewecht-3-a
END:VEVENT
BEGIN:VEVENT
UID:20260224T200000CET-4510dKzGUJ@https://www.tv-apen.de/
DTSTAMP:20260419T122556Z
CATEGORIES:Tischtennis
DESCRIPTION:
DTSTART;TZID=Europe/Berlin:20260224T000000
DTEND;TZID=Europe/Berlin:20260224T210000
SUMMARY:Herren  5 - SVE Wiefelstede  2 -(H)
URL:https://tv-apen.de/index.php/kalender/44-tischtennis/4891-herren-5-sve-
 wiefelstede-2-h
END:VEVENT
BEGIN:VEVENT
UID:20260224T200000CET-2655nGG3Uc@https://www.tv-apen.de/
DTSTAMP:20260419T122556Z
CATEGORIES:Tischtennis
DESCRIPTION:
DTSTART;TZID=Europe/Berlin:20260224T000000
DTEND;TZID=Europe/Berlin:20260224T210000
SUMMARY:Herren  2 -  TuS Augustfehn  - ( H )
URL:https://tv-apen.de/index.php/kalender/44-tischtennis/4904-herren-2-tus-
 augustfehn-h
END:VEVENT
BEGIN:VEVENT
UID:20260227T200000CET-0134ULBXJO@https://www.tv-apen.de/
DTSTAMP:20260419T122556Z
CATEGORIES:Tischtennis
DESCRIPTION:
DTSTART;TZID=Europe/Berlin:20260227T000000
DTEND;TZID=Europe/Berlin:20260227T210000
SUMMARY:Herren  2 - FC Rastede  2 - (H)
URL:https://tv-apen.de/index.php/kalender/44-tischtennis/4905-herren-2-fc-r
 astede-2-h
END:VEVENT
BEGIN:VEVENT
UID:20260227T200000CET-1466rhX5DL@https://www.tv-apen.de/
DTSTAMP:20260419T122556Z
CATEGORIES:Tischtennis
DESCRIPTION:
DTSTART;TZID=Europe/Berlin:20260227T000000
DTEND;TZID=Europe/Berlin:20260227T210000
SUMMARY:Herren  7 - SSV Gristede  3  - (H)
URL:https://tv-apen.de/index.php/kalender/44-tischtennis/4917-herren-7-ssv-
 gristede-3-h
END:VEVENT
BEGIN:VEVENT
UID:20260227T200000CET-7970AjcfnU@https://www.tv-apen.de/
DTSTAMP:20260419T122556Z
CATEGORIES:Tischtennis
DESCRIPTION:
DTSTART;TZID=Europe/Berlin:20260227T000000
DTEND;TZID=Europe/Berlin:20260227T210000
SUMMARY:Herren  3 - SSV  Jeddeloh  3  -(H)
URL:https://tv-apen.de/index.php/kalender/44-tischtennis/4925-herren-3-ssv-
 jeddeloh-3-h
END:VEVENT
BEGIN:VEVENT
UID:20260302T200000CET-8694VmpRKb@https://www.tv-apen.de/
DTSTAMP:20260419T122556Z
CATEGORIES:Tischtennis
DESCRIPTION:
DTSTART;TZID=Europe/Berlin:20260302T000000
DTEND;TZID=Europe/Berlin:20260302T210000
SUMMARY:Herren  4 - SVE Wiefelstede  2 - (A)
URL:https://tv-apen.de/index.php/kalender/44-tischtennis/4931-herren-4-sve-
 wiefelstede-2-a
END:VEVENT
BEGIN:VEVENT
UID:20260305T201500CET-1706uCncv3@https://www.tv-apen.de/
DTSTAMP:20260419T122556Z
CATEGORIES:Tischtennis
DESCRIPTION:
DTSTART;TZID=Europe/Berlin:20260305T000000
DTEND;TZID=Europe/Berlin:20260305T211500
SUMMARY:Herren  3 - TuS Augustfehn  2 -( A)
URL:https://tv-apen.de/index.php/kalender/44-tischtennis/4926-herren-3-tus-
 augustfehn-2-a
END:VEVENT
BEGIN:VEVENT
UID:20260306T200000CET-2216cSfVi2@https://www.tv-apen.de/
DTSTAMP:20260419T122556Z
CATEGORIES:Tischtennis
DESCRIPTION:
DTSTART;TZID=Europe/Berlin:20260306T000000
DTEND;TZID=Europe/Berlin:20260306T210000
SUMMARY:Herren  7  - SVE Wiefelstede  3  - (A)
URL:https://tv-apen.de/index.php/kalender/44-tischtennis/4918-herren-7-sve-
 wiefelstede-3-a
END:VEVENT
BEGIN:VEVENT
UID:20260306T203000CET-001139XlXT@https://www.tv-apen.de/
DTSTAMP:20260419T122556Z
CATEGORIES:Tischtennis
DESCRIPTION:
DTSTART;TZID=Europe/Berlin:20260306T000000
DTEND;TZID=Europe/Berlin:20260306T213000
SUMMARY:Herren  1 - SG Cleverns-Sandel - (A)
URL:https://tv-apen.de/index.php/kalender/44-tischtennis/4899-herren-1-sg-c
 leverns-sandel-a
END:VEVENT
END:VCALENDAR
