BEGIN:VCALENDAR
VERSION:2.0
PRODID:-//https://tv-apen.de//NONSGML kigkonsult.se iCalcreator 2.23.20//
METHOD:PUBLISH
X-WR-CALNAME:JCal Pro Kalender
X-WR-CALDESC:Ihr Online-Terminkalender
X-WR-TIMEZONE:Europe/Berlin
BEGIN:VTIMEZONE
TZID:Europe/Berlin
BEGIN:STANDARD
DTSTART:20251026T030000
TZOFFSETFROM:+0200
TZOFFSETTO:+0100
RDATE:20261025T030000
TZNAME:CET
END:STANDARD
BEGIN:DAYLIGHT
DTSTART:20260329T020000
TZOFFSETFROM:+0100
TZOFFSETTO:+0200
RDATE:20270328T020000
TZNAME:CEST
END:DAYLIGHT
END:VTIMEZONE
BEGIN:VEVENT
UID:20260313T200000CET-3313SZgG6j@https://www.tv-apen.de/
DTSTAMP:20260419T122556Z
CATEGORIES:Tischtennis
DESCRIPTION:
DTSTART;TZID=Europe/Berlin:20260313T000000
DTEND;TZID=Europe/Berlin:20260313T210000
SUMMARY:Herren  5 - SSV Wittenberge  -(H)
URL:https://tv-apen.de/index.php/kalender/44-tischtennis/4892-herren-5-ssv-
 wittenberge-h
END:VEVENT
BEGIN:VEVENT
UID:20260313T200000CET-4680GobST2@https://www.tv-apen.de/
DTSTAMP:20260419T122556Z
CATEGORIES:Tischtennis
DESCRIPTION:
DTSTART;TZID=Europe/Berlin:20260313T000000
DTEND;TZID=Europe/Berlin:20260313T210000
SUMMARY:Herren  2 - SV Grün/Gelb Roffhausen  - (H)
URL:https://tv-apen.de/index.php/kalender/44-tischtennis/4906-herren-2-sv-g
 ruen-gelb-roffhausen-h
END:VEVENT
BEGIN:VEVENT
UID:20260313T200000CET-9185IhpIIr@https://www.tv-apen.de/
DTSTAMP:20260419T122556Z
CATEGORIES:Tischtennis
DESCRIPTION:
DTSTART;TZID=Europe/Berlin:20260313T000000
DTEND;TZID=Europe/Berlin:20260313T210000
SUMMARY:Herren  7 - TuS Ocholt  4  - (H)
URL:https://tv-apen.de/index.php/kalender/44-tischtennis/4919-herren-7-tus-
 ocholt-4-h
END:VEVENT
BEGIN:VEVENT
UID:20260313T200000CET-2463kJVWjn@https://www.tv-apen.de/
DTSTAMP:20260419T122556Z
CATEGORIES:Tischtennis
DESCRIPTION:
DTSTART;TZID=Europe/Berlin:20260313T200000
SUMMARY:Herren  3 - TV  Aschhausen  - (H)
URL:https://tv-apen.de/index.php/kalender/44-tischtennis/4927-herren-3-tv-a
 schhausen-h
END:VEVENT
BEGIN:VEVENT
UID:20260313T200000CET-8533ET3u21@https://www.tv-apen.de/
DTSTAMP:20260419T122556Z
CATEGORIES:Tischtennis
DESCRIPTION:
DTSTART;TZID=Europe/Berlin:20260313T000000
DTEND;TZID=Europe/Berlin:20260313T210000
SUMMARY:Herren  4 - TuS Ocholt  2 - (H)
URL:https://tv-apen.de/index.php/kalender/44-tischtennis/4932-herren-4-tus-
 ocholt-2-h
END:VEVENT
BEGIN:VEVENT
UID:20260317T200000CET-2704tEu1UO@https://www.tv-apen.de/
DTSTAMP:20260419T122556Z
CATEGORIES:Tischtennis
DESCRIPTION:
DTSTART;TZID=Europe/Berlin:20260317T000000
DTEND;TZID=Europe/Berlin:20260317T210000
SUMMARY:Heeren  6 - SSV Gristede  3 - (A)
URL:https://tv-apen.de/index.php/kalender/44-tischtennis/4941-heeren-6-ssv-
 gristede-3-a
END:VEVENT
BEGIN:VEVENT
UID:20260318T200000CET-3742LoOiZU@https://www.tv-apen.de/
DTSTAMP:20260419T122556Z
CATEGORIES:Tischtennis
DESCRIPTION:
DTSTART;TZID=Europe/Berlin:20260318T000000
DTEND;TZID=Europe/Berlin:20260318T210000
SUMMARY:Herren 2 - TSR Olympia W - haven - (A)
URL:https://tv-apen.de/index.php/kalender/44-tischtennis/4907-herren-2-tsr-
 olympia-w-haven-a
END:VEVENT
BEGIN:VEVENT
UID:20260318T200000CET-8884kHcCCW@https://www.tv-apen.de/
DTSTAMP:20260419T122556Z
CATEGORIES:Tischtennis
DESCRIPTION:
DTSTART;TZID=Europe/Berlin:20260318T000000
DTEND;TZID=Europe/Berlin:20260318T210000
SUMMARY:Herren  3 - FC  Rastede  4 - (A)
URL:https://tv-apen.de/index.php/kalender/44-tischtennis/4928-herren-3-fc-r
 astede-4-a
END:VEVENT
BEGIN:VEVENT
UID:20260320T200000CET-0422HOXvvA@https://www.tv-apen.de/
DTSTAMP:20260419T122556Z
CATEGORIES:Tischtennis
DESCRIPTION:
DTSTART;TZID=Europe/Berlin:20260320T000000
DTEND;TZID=Europe/Berlin:20260320T210000
SUMMARY:Herren  4 - TuS Ocholt  3  - (H)
URL:https://tv-apen.de/index.php/kalender/44-tischtennis/4933-herren-4-tus-
 ocholt-3-h
END:VEVENT
BEGIN:VEVENT
UID:20260327T200000CET-9357rpDnLA@https://www.tv-apen.de/
DTSTAMP:20260419T122556Z
CATEGORIES:Tischtennis
DESCRIPTION:
DTSTART;TZID=Europe/Berlin:20260327T000000
DTEND;TZID=Europe/Berlin:20260327T210000
SUMMARY:Herren 6 - TSG Bokel  4  -(H)
URL:https://tv-apen.de/index.php/kalender/44-tischtennis/4942-herren-6-tsg-
 bokel-4-h
END:VEVENT
BEGIN:VEVENT
UID:20260410T200000CEST-1268hRSRxU@https://www.tv-apen.de/
DTSTAMP:20260419T122556Z
CATEGORIES:Tischtennis
DESCRIPTION:
DTSTART;TZID=Europe/Berlin:20260410T000000
DTEND;TZID=Europe/Berlin:20260410T210000
SUMMARY:Herren  1 - TuS Sande  2 - (A)
URL:https://tv-apen.de/index.php/kalender/44-tischtennis/4900-herren-1-tus-
 sande-2-a
END:VEVENT
BEGIN:VEVENT
UID:20260410T200000CEST-7340Hh8MMx@https://www.tv-apen.de/
DTSTAMP:20260419T122556Z
CATEGORIES:Tischtennis
DESCRIPTION:
DTSTART;TZID=Europe/Berlin:20260410T200000
SUMMARY:Herren  2 - TT WST/Ekern SG  3  . (A )
URL:https://tv-apen.de/index.php/kalender/44-tischtennis/4908-herren-2-tt-w
 st-ekern-sg-3-a
END:VEVENT
BEGIN:VEVENT
UID:20260410T200000CEST-46710GRpGm@https://www.tv-apen.de/
DTSTAMP:20260419T122556Z
CATEGORIES:Tischtennis
DESCRIPTION:
DTSTART;TZID=Europe/Berlin:20260410T000000
DTEND;TZID=Europe/Berlin:20260410T210000
SUMMARY:Herren  4 - TT WST/Ekern SG  10  - (H)
URL:https://tv-apen.de/index.php/kalender/44-tischtennis/4934-herren-4-tt-w
 st-ekern-sg-10-h
END:VEVENT
BEGIN:VEVENT
UID:20260412T110000CEST-6509XLt0WF@https://www.tv-apen.de/
DTSTAMP:20260419T122556Z
CATEGORIES:Tischtennis
DESCRIPTION:
DTSTART;TZID=Europe/Berlin:20260412T000000
DTEND;TZID=Europe/Berlin:20260412T120000
SUMMARY:Herren  1 - Wilhelmshavener SSV  - (A)
URL:https://tv-apen.de/index.php/kalender/44-tischtennis/4901-herren-1-wilh
 elmshavener-ssv-a
END:VEVENT
BEGIN:VEVENT
UID:20260413T194500CEST-7002jhI33g@https://www.tv-apen.de/
DTSTAMP:20260419T122556Z
CATEGORIES:Tischtennis
DESCRIPTION:
DTSTART;TZID=Europe/Berlin:20260413T000000
DTEND;TZID=Europe/Berlin:20260413T204500
SUMMARY:Herren  4 - SSV Wittenbverge  - (A)
URL:https://tv-apen.de/index.php/kalender/44-tischtennis/4935-herren-4-ssv-
 wittenbverge-a
END:VEVENT
BEGIN:VEVENT
UID:20260417T200000CEST-9500SehXGk@https://www.tv-apen.de/
DTSTAMP:20260419T122556Z
CATEGORIES:Tischtennis
DESCRIPTION:
DTSTART;TZID=Europe/Berlin:20260417T000000
DTEND;TZID=Europe/Berlin:20260417T210000
SUMMARY:Herren  7 - FC Rastede  5 - (A)
URL:https://tv-apen.de/index.php/kalender/44-tischtennis/4920-herren-7-fc-r
 astede-5-a
END:VEVENT
BEGIN:VEVENT
UID:20260417T200000CEST-9268RKCnZS@https://www.tv-apen.de/
DTSTAMP:20260419T122556Z
CATEGORIES:Tischtennis
DESCRIPTION:
DTSTART;TZID=Europe/Berlin:20260417T000000
DTEND;TZID=Europe/Berlin:20260417T210000
SUMMARY:Herren  3 - TuS  Ofen - (A)
URL:https://tv-apen.de/index.php/kalender/44-tischtennis/4929-herren-3-tus-
 ofen-a
END:VEVENT
BEGIN:VEVENT
UID:20260417T201500CEST-4304pIPi38@https://www.tv-apen.de/
DTSTAMP:20260419T122556Z
CATEGORIES:Tischtennis
DESCRIPTION:
DTSTART;TZID=Europe/Berlin:20260417T000000
DTEND;TZID=Europe/Berlin:20260417T211500
SUMMARY:Herren 2 - TT WST/Ekern SG 4  - (H)
URL:https://tv-apen.de/index.php/kalender/44-tischtennis/4909-herren-2-tt-w
 st-ekern-sg-4-h
END:VEVENT
BEGIN:VEVENT
UID:20260418T150000CEST-6834a3gTMf@https://www.tv-apen.de/
DTSTAMP:20260419T122556Z
CATEGORIES:Tischtennis
DESCRIPTION:
DTSTART;TZID=Europe/Berlin:20260418T000000
DTEND;TZID=Europe/Berlin:20260418T160000
SUMMARY:Herren 2 - TuS Sande 3 - (A)
URL:https://tv-apen.de/index.php/kalender/44-tischtennis/4910-herren-2-tus-
 sande-3-a
END:VEVENT
BEGIN:VEVENT
UID:20260421T200000CEST-7407xcV2IP@https://www.tv-apen.de/
DTSTAMP:20260419T122556Z
CATEGORIES:Tischtennis
DESCRIPTION:
DTSTART;TZID=Europe/Berlin:20260421T000000
DTEND;TZID=Europe/Berlin:20260421T210000
SUMMARY:Herren  4 - TSG Husbäke  2 - (H)
URL:https://tv-apen.de/index.php/kalender/44-tischtennis/4936-herren-4-tsg-
 husbaeke-2-h
END:VEVENT
END:VCALENDAR
